BEGIN:VCALENDAR
PRODID:NingEventWidget-v1
VERSION:2.0
METHOD:PUBLISH
BEGIN:VTIMEZONE
TZID:America/Los_Angeles
X-LIC-LOCATION:America/Los_Angeles
BEGIN:DAYLIGHT
TZOFFSETFROM:-0800
TZOFFSETTO:-0700
TZNAME:PDT
DTSTART:19700308T020000
RRULE:FREQ=YEARLY;BYMONTH=3;BYDAY=2SU
END:DAYLIGHT
BEGIN:STANDARD
TZOFFSETFROM:-0700
TZOFFSETTO:-0800
TZNAME:PST
DTSTART:19701101T020000
RRULE:FREQ=YEARLY;BYMONTH=11;BYDAY=1SU
END:STANDARD
END:VTIMEZONE
BEGIN:VEVENT
UID:1464587:Event:317786
DTSTAMP:20260421T065829Z
SUMMARY:Zulu Nation Thursday in Oakland
DESCRIPTION:\n\nStarting Thursday, March 6th 2014: ZULU NATION THURSDA
 YS @ 1 Fam in West Oakland! This event will be every 1st Thursday of 
 the Month and we setting it off with MC K~Swift, Eseibio the Automati
 c, Alia Sharrief, Aaron Mirmalek aka DJ Free Leonard& Rage Souljah o
 f Race for the Times!!! 6-8pm Meeting of the Minds 8-11pm performan
 ces & speakers/community dialogue, 11-12am Open Mic Cypher!! All Age
 s welcome & no cover chargePEACE, UNITY, LOVE & HAVING FUN!\n\n\n\n\nF
 or more information visit https://trueskool.com/events/zulu-nation-thu
 rsday-in-oakland
DTSTART;TZID=America/Los_Angeles:20140225T180000
DTEND;TZID=America/Los_Angeles:20140225T190000
CATEGORIES:west, oakland
LOCATION:1Fam
WEBSITE:https://www.facebook.com/events/627438060638989/
URL:https://www.facebook.com/events/627438060638989/
CONTACT:
ORGANIZER;CN="Ras Ceylon":https://trueskool.com/profile/RasCeylon
ATTACH;FMTTYPE="image/jpeg":http://storage.ning.com/topology/rest/1.0/
 file/get/2247958231?profile=original
ATTENDEE;ROLE=REQ-PARTICIPANT;PARTSTAT=ACCEPTED;RSVP=TRUE;CN="Ras Ceyl
 on":https://trueskool.com/profile/RasCeylon
END:VEVENT
END:VCALENDAR
