BEGIN:VCALENDAR
PRODID:NingEventWidget-v1
VERSION:2.0
METHOD:PUBLISH
BEGIN:VTIMEZONE
TZID:America/Los_Angeles
X-LIC-LOCATION:America/Los_Angeles
BEGIN:DAYLIGHT
TZOFFSETFROM:-0800
TZOFFSETTO:-0700
TZNAME:PDT
DTSTART:19700308T020000
RRULE:FREQ=YEARLY;BYMONTH=3;BYDAY=2SU
END:DAYLIGHT
BEGIN:STANDARD
TZOFFSETFROM:-0700
TZOFFSETTO:-0800
TZNAME:PST
DTSTART:19701101T020000
RRULE:FREQ=YEARLY;BYMONTH=11;BYDAY=1SU
END:STANDARD
END:VTIMEZONE
BEGIN:VEVENT
UID:1464587:Event:69701
DTSTAMP:20260420T165810Z
SUMMARY:ZION-I ATOMIC BOMB ALBUM RELEASE PARTY @ CHROME LOTUS W/EYEZON
  & A PEOPLE LIKE US Band +
DESCRIPTION:HOME FOR THANKS GIVING WEEKEND?\nhttp://www.facebook.com/e
 vent.php?eid=173727565975319\nconfirm and spread word on the show afte
 r Thanks Giving.\nIt should be clutch since We're bringin' the Full ba
 nd.\nAlso\nCheck our Okayafrica.com write Up'\nhttp://www.okayafrica.c
 om/2010/11/05/video-eyezon-lord-hold-me/\n\nFor more information visit
  https://trueskool.com/events/zioni-atomic-bomb-album
DTSTART;TZID=America/Los_Angeles:20101127T210000
DTEND;TZID=America/Los_Angeles:20101128T020000
CATEGORIES:santa, rosa, california
LOCATION:CHROME LOTUS
WEBSITE:http://HOME FOR THANKS GIVING WEEKEND? http://www.facebook.com
 /event.php?eid=173727565975319 /
URL:http://HOME FOR THANKS GIVING WEEKEND? http://www.facebook.com/eve
 nt.php?eid=173727565975319 /
CONTACT:707-843-5643
ORGANIZER:THE PEOPLE
ATTACH;FMTTYPE="image/jpeg":
ATTENDEE;ROLE=REQ-PARTICIPANT;PARTSTAT=ACCEPTED;RSVP=TRUE;CN=EYEZON:ht
 tps://trueskool.com/profile/EYEZON
END:VEVENT
END:VCALENDAR
