BEGIN:VCALENDAR
PRODID:NingEventWidget-v1
VERSION:2.0
METHOD:PUBLISH
BEGIN:VTIMEZONE
TZID:America/Los_Angeles
X-LIC-LOCATION:America/Los_Angeles
BEGIN:DAYLIGHT
TZOFFSETFROM:-0800
TZOFFSETTO:-0700
TZNAME:PDT
DTSTART:19700308T020000
RRULE:FREQ=YEARLY;BYMONTH=3;BYDAY=2SU
END:DAYLIGHT
BEGIN:STANDARD
TZOFFSETFROM:-0700
TZOFFSETTO:-0800
TZNAME:PST
DTSTART:19701101T020000
RRULE:FREQ=YEARLY;BYMONTH=11;BYDAY=1SU
END:STANDARD
END:VTIMEZONE
BEGIN:VEVENT
UID:1464587:Event:31183
DTSTAMP:20260420T200040Z
SUMMARY:Zion I, Trackademics & The Honor Roll, Kev Choice Ensemble
DESCRIPTION:9:00 PM\nZion I\nTrackademicks & The Honor Roll • Kev Ch
 oice Ensemble ... ($19/$23)\n\nSlim's\n333 11th St\nSan Francisco, CA\
 n94103-4313, US\n(415) 255-0333\n\nFor more information visit https://
 trueskool.com/events/zion-i-trackademics-the-honor
DTSTART;TZID=America/Los_Angeles:20090501T210000
DTEND;TZID=America/Los_Angeles:20090502T000000
CATEGORIES:hip, hop, electro
LOCATION:Slim's, San Francisco, CA
WEBSITE:http://www.slims-sf.com
URL:http://www.slims-sf.com
CONTACT:
ORGANIZER:Slim's
ATTACH;FMTTYPE="image/jpeg":http://storage.ning.com/topology/rest/1.0/
 file/get/2106897201?profile=original
ATTENDEE;ROLE=REQ-PARTICIPANT;PARTSTAT=ACCEPTED;RSVP=TRUE;CN=Spor:http
 s://trueskool.com/profile/KemiSpor
ATTENDEE;ROLE=REQ-PARTICIPANT;PARTSTAT=ACCEPTED;RSVP=TRUE;CN=Bryan:htt
 ps://trueskool.com/profile/Bryan
ATTENDEE;ROLE=REQ-PARTICIPANT;PARTSTAT=ACCEPTED;RSVP=TRUE;CN="Editor's
  Pick":https://trueskool.com/profile/RentheVinylArchaeologist
END:VEVENT
END:VCALENDAR
