BEGIN:VCALENDAR
PRODID:NingEventWidget-v1
VERSION:2.0
METHOD:PUBLISH
BEGIN:VTIMEZONE
TZID:America/Los_Angeles
X-LIC-LOCATION:America/Los_Angeles
BEGIN:DAYLIGHT
TZOFFSETFROM:-0800
TZOFFSETTO:-0700
TZNAME:PDT
DTSTART:19700308T020000
RRULE:FREQ=YEARLY;BYMONTH=3;BYDAY=2SU
END:DAYLIGHT
BEGIN:STANDARD
TZOFFSETFROM:-0700
TZOFFSETTO:-0800
TZNAME:PST
DTSTART:19701101T020000
RRULE:FREQ=YEARLY;BYMONTH=11;BYDAY=1SU
END:STANDARD
END:VTIMEZONE
BEGIN:VEVENT
UID:1464587:Event:653958
DTSTAMP:20260422T060540Z
SUMMARY:Zion I - The Labyrinth Tour
DESCRIPTION:The New Parish 579 18th StOakland, CA, 94612Fri Nov. 25Doo
 rs 8:00 PM / Show 9:00 PMThis event is 18 and over\n\nFor more informa
 tion visit https://trueskool.com/events/zion-i-the-labyrinth-tour
DTSTART;TZID=America/Los_Angeles:20161125T200000
DTEND;TZID=America/Los_Angeles:20161125T230000
CATEGORIES:"san francisco", oakland, berkley, "san jose", "bay area"
LOCATION:The New Parish, Oakland
WEBSITE:https://www.ticketfly.com/purchase/event/1302731/tfly
URL:https://www.ticketfly.com/purchase/event/1302731/tfly
CONTACT:
ORGANIZER;CN="Editor's Pick":https://trueskool.com/profile/RentheVinyl
 Archaeologist
ATTACH;FMTTYPE="image/jpeg":http://storage.ning.com/topology/rest/1.0/
 file/get/2247991624?profile=original
ATTENDEE;ROLE=REQ-PARTICIPANT;PARTSTAT=ACCEPTED;RSVP=TRUE;CN="Editor's
  Pick":https://trueskool.com/profile/RentheVinylArchaeologist
END:VEVENT
END:VCALENDAR
