BEGIN:VCALENDAR
PRODID:NingEventWidget-v1
VERSION:2.0
METHOD:PUBLISH
BEGIN:VTIMEZONE
TZID:America/Los_Angeles
X-LIC-LOCATION:America/Los_Angeles
BEGIN:DAYLIGHT
TZOFFSETFROM:-0800
TZOFFSETTO:-0700
TZNAME:PDT
DTSTART:19700308T020000
RRULE:FREQ=YEARLY;BYMONTH=3;BYDAY=2SU
END:DAYLIGHT
BEGIN:STANDARD
TZOFFSETFROM:-0700
TZOFFSETTO:-0800
TZNAME:PST
DTSTART:19701101T020000
RRULE:FREQ=YEARLY;BYMONTH=11;BYDAY=1SU
END:STANDARD
END:VTIMEZONE
BEGIN:VEVENT
UID:1464587:Event:69483
DTSTAMP:20260420T131055Z
SUMMARY:Zion I, Locksmith, Hold Up, Bayliens, DJ Kevvy Kev (Sat-Sun, 1
 1/20-11/21)
DESCRIPTION:CLICK HERE TO WIN A PAIR OF TICKETS:\nhttp://www.trueskool
 .com/group/wintickets\n\n\nSATURDAY-SUNDAY, NOV 20-21\nNovember 20th\n
 \nSpecial Appearances:\nLocksmith,\nHold Up,\nBayliens,\nDJ Kevvy Kev\
 n\nDoors @ 7:30 PM\nEvent @ 8:30 PM\n\nTicket info:\nhttp://tickets.sl
 ims-sf.com/evinfo.php?eventid=119456\n\nNovember 21st Show:\n\nSpecial
  Appearances:\nEligh w/ Scarub (Album Release)\nBang Data,\nHold Up,\n
 Oakland Faders\n\nDoors @ 8:00 PM\nEvent @ 9:00 PM\n\nTicket info:\nht
 tp://tickets.slims-sf.com/evinfo.php?eventid=126376\n\nSlim's, 333 11t
 h St., San Francisco, CA\nGeneral Admission: $20\nDinner & Admission:$
 44.95\n\nAfter delving into upbeat, electronic music on 2009′s \"The
  Takeover,\" Oakland hip-hop stalwarts Zion I enter a new phase of the
 ir chameleonic career with \"Atomic Clock\" (November 9th, Gold Dust),
  a moody, emotional record inspired by the group’s longtime admirati
 on for reggae and dub.\n\nWhile the group’s roots are still firmly p
 lanted in hip-hop, \"Atomic Clock\"’s cavernous, atmospheric vibe re
 calls both the classic roots reggae of Max Romeo and The Congos and fo
 rward-thinking dub mixing of UK artists such as Adrian Sherwood. “'T
 he Takeover' was a very external record and we wanted to focus on fun,
  party music,” says emcee Zumbi AKA Zion. “This one is much more r
 eflective and internal. We didn’t want to just recreate what we did 
 last album. Art is not about living in the past.”\n\nFor \"Atomic Cl
 ock,\" the duo employed live musicians to flesh out producer Amp Live
 s original beats and thicken the overall sound. For many of \"Atomic
  Clock\"‘s tracks, Amp would create the skeleton of the beat himself
  for the initial direction before collaborating with the group’s liv
 e musicians to complement the sound and, in certain cases, redo the tr
 ack live. In stark contrast to \"The Takeover,\" which saw Amp and Zum
 bi e-mail verses and beats to each other to constantly tweak each song
 , the group and their collaborators engaged in days-long jam sessions,
  for the first time in their career, to best enunciate Amp’s initial
  idea.\n\nFor Zumbi, the writing style on \"Atomic Clock\" was much mo
 re instinctive than on past albums, and the result is a litany of emot
 ionally introspective, brutally honest songs that both relay the emcee
 ’s personal experience and delve into weighty topics including the t
 ransient nature of time.\n\nFor more information visit https://truesko
 ol.com/events/zion-i-locksmith-hold-up
DTSTART;TZID=America/Los_Angeles:20101120T203000
DTEND;TZID=America/Los_Angeles:20101122T010000
CATEGORIES:san, francisco, ca
LOCATION:Slim's, San Francisco, CA
WEBSITE:http://www.slims-sf.com
URL:http://www.slims-sf.com
CONTACT:
ORGANIZER;CN=Tracey:https://trueskool.com/profile/Tracey
ATTACH;FMTTYPE="image/jpeg":http://storage.ning.com/topology/rest/1.0/
 file/get/2247885469?profile=original
ATTENDEE;ROLE=REQ-PARTICIPANT;PARTSTAT=ACCEPTED;RSVP=TRUE;CN="caramel 
 queen":https://trueskool.com/profile/caramelqueen
ATTENDEE;ROLE=REQ-PARTICIPANT;PARTSTAT=ACCEPTED;RSVP=TRUE;CN=Tracey:ht
 tps://trueskool.com/profile/Tracey
END:VEVENT
END:VCALENDAR
