BEGIN:VCALENDAR
PRODID:NingEventWidget-v1
VERSION:2.0
METHOD:PUBLISH
BEGIN:VTIMEZONE
TZID:America/Los_Angeles
X-LIC-LOCATION:America/Los_Angeles
BEGIN:DAYLIGHT
TZOFFSETFROM:-0800
TZOFFSETTO:-0700
TZNAME:PDT
DTSTART:19700308T020000
RRULE:FREQ=YEARLY;BYMONTH=3;BYDAY=2SU
END:DAYLIGHT
BEGIN:STANDARD
TZOFFSETFROM:-0700
TZOFFSETTO:-0800
TZNAME:PST
DTSTART:19701101T020000
RRULE:FREQ=YEARLY;BYMONTH=11;BYDAY=1SU
END:STANDARD
END:VTIMEZONE
BEGIN:VEVENT
UID:1464587:Event:679557
DTSTAMP:20260421T111929Z
SUMMARY:Zion I
DESCRIPTION:ENTER TO WIN A PAIR OF TICKETS. WINNER WILL BE DRAWN RANDO
 MLY AND ANNOUNCED 2 DAYS PRIOR TO EVENT.\r\n Friday Nov 23, 2018 Zion 
 I\r\nThe Independent, 628 Divisadero St, San Francisco, CA Doors: 8:30
  PM Show: 9:00 PM 21 and over $20 ADV - $25 DOOR >> BUY TICKETS\r\n\n\
 nFor more information visit https://trueskool.com/events/zion-i-6
DTSTART;TZID=America/Los_Angeles:20181123T203000
DTEND;TZID=America/Los_Angeles:20181123T230000
CATEGORIES:"bay area", "san francisco"
LOCATION:The Independent, SF
WEBSITE:https://www.ticketfly.com/purchase/event/1781486
URL:https://www.ticketfly.com/purchase/event/1781486
CONTACT:
ORGANIZER;CN="Editor's Pick":https://trueskool.com/profile/RentheVinyl
 Archaeologist
ATTACH;FMTTYPE="image/jpeg":http://storage.ning.com/topology/rest/1.0/
 file/get/2248010944?profile=original
ATTENDEE;ROLE=REQ-PARTICIPANT;PARTSTAT=ACCEPTED;RSVP=TRUE;CN="Editor's
  Pick":https://trueskool.com/profile/RentheVinylArchaeologist
END:VEVENT
END:VCALENDAR
