BEGIN:VCALENDAR
PRODID:NingEventWidget-v1
VERSION:2.0
METHOD:PUBLISH
BEGIN:VTIMEZONE
TZID:America/Los_Angeles
X-LIC-LOCATION:America/Los_Angeles
BEGIN:DAYLIGHT
TZOFFSETFROM:-0800
TZOFFSETTO:-0700
TZNAME:PDT
DTSTART:19700308T020000
RRULE:FREQ=YEARLY;BYMONTH=3;BYDAY=2SU
END:DAYLIGHT
BEGIN:STANDARD
TZOFFSETFROM:-0700
TZOFFSETTO:-0800
TZNAME:PST
DTSTART:19701101T020000
RRULE:FREQ=YEARLY;BYMONTH=11;BYDAY=1SU
END:STANDARD
END:VTIMEZONE
BEGIN:VEVENT
UID:1464587:Event:50339
DTSTAMP:20260421T094517Z
SUMMARY:Zion I
DESCRIPTION:CLICK HERE TO WIN A PAIR OF TICKETS\n\n\nTwo Nights!\nZion
  I\n\nRickshaw Stop\nSan Francisco, CA\nshow 9:00PM\nBuy Tickets\n\nFo
 r more information visit https://trueskool.com/events/zion-i-1
DTSTART;TZID=America/Los_Angeles:20100401T210000
DTEND;TZID=America/Los_Angeles:20100402T230000
CATEGORIES:hip, hop
LOCATION:Rickshaw Stop, San Francisco, CA
WEBSITE:http://www.apeconcerts.com
URL:http://www.apeconcerts.com
CONTACT:
ORGANIZER:Another Planet Entertainment
ATTACH;FMTTYPE="image/jpeg":http://storage.ning.com/topology/rest/1.0/
 file/get/2106897201?profile=original
ATTENDEE;ROLE=REQ-PARTICIPANT;PARTSTAT=ACCEPTED;RSVP=TRUE;CN="takumi s
 uzuki":https://trueskool.com/profile/takumisuzuki
ATTENDEE;ROLE=REQ-PARTICIPANT;PARTSTAT=ACCEPTED;RSVP=TRUE;CN="Ren the 
 Vinyl Archaeologist":https://trueskool.com/profile/xh51jvilojur
END:VEVENT
END:VCALENDAR
