BEGIN:VCALENDAR
PRODID:NingEventWidget-v1
VERSION:2.0
METHOD:PUBLISH
BEGIN:VTIMEZONE
TZID:America/Los_Angeles
X-LIC-LOCATION:America/Los_Angeles
BEGIN:DAYLIGHT
TZOFFSETFROM:-0800
TZOFFSETTO:-0700
TZNAME:PDT
DTSTART:19700308T020000
RRULE:FREQ=YEARLY;BYMONTH=3;BYDAY=2SU
END:DAYLIGHT
BEGIN:STANDARD
TZOFFSETFROM:-0700
TZOFFSETTO:-0800
TZNAME:PST
DTSTART:19701101T020000
RRULE:FREQ=YEARLY;BYMONTH=11;BYDAY=1SU
END:STANDARD
END:VTIMEZONE
BEGIN:VEVENT
UID:1464587:Event:229657
DTSTAMP:20260421T094711Z
SUMMARY:Ziggy Marley (Las Vegas)
DESCRIPTION:\nMandalay Bay BeachLas Vegas, NV 09:00 PM\n\nZiggy Marle
 y\nFind Tickets »\n\n\n\n\nFor more information visit https://truesk
 ool.com/events/ziggy-mrley-las-vegas
DTSTART;TZID=America/Los_Angeles:20130901T210000
DTEND;TZID=America/Los_Angeles:20130901T230000
CATEGORIES:"las vegas", nevada
LOCATION:Mandalay Bay Beach. Las Vegas, Nevada
WEBSITE:http://www.ticketmaster.com/ziggy-marley-las-vegas-nevada-09-0
 1-2013/event/2E004A8FD81F2B8F?artistid=770405&majorcatid=10001&minorca
 tid=5&tm_link=artist_msg-0_2E004A8FD81F2B8F
URL:http://www.ticketmaster.com/ziggy-marley-las-vegas-nevada-09-01-20
 13/event/2E004A8FD81F2B8F?artistid=770405&majorcatid=10001&minorcatid=
 5&tm_link=artist_msg-0_2E004A8FD81F2B8F
CONTACT:
ORGANIZER;CN="Editor's Pick":https://trueskool.com/profile/RentheVinyl
 Archaeologist
ATTACH;FMTTYPE="image/jpeg":http://storage.ning.com/topology/rest/1.0/
 file/get/2247917051?profile=original
ATTENDEE;ROLE=REQ-PARTICIPANT;PARTSTAT=ACCEPTED;RSVP=TRUE;CN="Editor's
  Pick":https://trueskool.com/profile/RentheVinylArchaeologist
END:VEVENT
END:VCALENDAR
