BEGIN:VCALENDAR
PRODID:NingEventWidget-v1
VERSION:2.0
METHOD:PUBLISH
BEGIN:VTIMEZONE
TZID:America/Los_Angeles
X-LIC-LOCATION:America/Los_Angeles
BEGIN:DAYLIGHT
TZOFFSETFROM:-0800
TZOFFSETTO:-0700
TZNAME:PDT
DTSTART:19700308T020000
RRULE:FREQ=YEARLY;BYMONTH=3;BYDAY=2SU
END:DAYLIGHT
BEGIN:STANDARD
TZOFFSETFROM:-0700
TZOFFSETTO:-0800
TZNAME:PST
DTSTART:19701101T020000
RRULE:FREQ=YEARLY;BYMONTH=11;BYDAY=1SU
END:STANDARD
END:VTIMEZONE
BEGIN:VEVENT
UID:1464587:Event:450525
DTSTAMP:20260421T002942Z
SUMMARY:Ziggy Marley [LA]
DESCRIPTION:\nZiggy Marley\n\n\n\nCity National Grove of AnaheimAnahei
 m, CA\n\nSun, 11/02/1408:00 P\n\n\n\n\n\nFor more information visit h
 ttps://trueskool.com/events/ziggy-marley-la
DTSTART;TZID=America/Los_Angeles:20141102T200000
DTEND;TZID=America/Los_Angeles:20141102T230000
CATEGORIES:"los angeles"
LOCATION:City National Grove of Anaheim
WEBSITE:http://www.ticketmaster.com/ziggy-marley-anaheim-california-11
 -02-2014/event/09004D07D25C35AC?artistid=770405&majorcatid=10001&minor
 catid=5&tm_link=browse_msg-0_09004D07D25C35AC
URL:http://www.ticketmaster.com/ziggy-marley-anaheim-california-11-02-
 2014/event/09004D07D25C35AC?artistid=770405&majorcatid=10001&minorcati
 d=5&tm_link=browse_msg-0_09004D07D25C35AC
CONTACT:
ORGANIZER;CN="Editor's Pick":https://trueskool.com/profile/RentheVinyl
 Archaeologist
ATTACH;FMTTYPE="image/jpeg":http://storage.ning.com/topology/rest/1.0/
 file/get/2247972943?profile=original
ATTENDEE;ROLE=REQ-PARTICIPANT;PARTSTAT=ACCEPTED;RSVP=TRUE;CN="Editor's
  Pick":https://trueskool.com/profile/RentheVinylArchaeologist
END:VEVENT
END:VCALENDAR
