BEGIN:VCALENDAR
PRODID:NingEventWidget-v1
VERSION:2.0
METHOD:PUBLISH
BEGIN:VTIMEZONE
TZID:America/Los_Angeles
X-LIC-LOCATION:America/Los_Angeles
BEGIN:DAYLIGHT
TZOFFSETFROM:-0800
TZOFFSETTO:-0700
TZNAME:PDT
DTSTART:19700308T020000
RRULE:FREQ=YEARLY;BYMONTH=3;BYDAY=2SU
END:DAYLIGHT
BEGIN:STANDARD
TZOFFSETFROM:-0700
TZOFFSETTO:-0800
TZNAME:PST
DTSTART:19701101T020000
RRULE:FREQ=YEARLY;BYMONTH=11;BYDAY=1SU
END:STANDARD
END:VTIMEZONE
BEGIN:VEVENT
UID:1464587:Event:679506
DTSTAMP:20260421T191732Z
SUMMARY:Zigaboo Modeliste's 70th Birthday Extravaganza 12/28/2018!!
DESCRIPTION:Zigaboo Modeliste's Birthday Extravaganza w/ special guest
 s!: Friday, December 28th Doors: 7:00 pm / Show: 8:00 pm $20 ADV /
  $24 DOOR (plus fees) - Joseph “Zigaboo” Modeliste is a master dru
 mmer, rhythm innovator and New Orleans legend. The most highly-acclaim
 ed drummer ever to hail from the Crescent City, Ziggy’s creativity h
 as been a wellspring of funk influence for over five decades, inspirin
 g many hip-hop tracks.   In 2018, the Recording Academy has honored 
 Modeliste and The Meters with a Lifetime Achievement Grammy Award. Co
 me Celebrate his 70th Birthday and Dance the Night Away!\n\nFor more i
 nformation visit https://trueskool.com/events/zigaboo-modeliste-s-70th
 -birthday-extravaganza-12-28-2018
DTSTART;TZID=America/Los_Angeles:20181228T200000
DTEND;TZID=America/Los_Angeles:20181229T000000
CATEGORIES:berkeley
LOCATION:Freight &amp; Salavage, Berkeley, CA.
WEBSITE:https://www.thefreight.org/event/1773319-zigaboo-modelistes-bi
 rthday-berkeley/
URL:https://www.thefreight.org/event/1773319-zigaboo-modelistes-birthd
 ay-berkeley/
CONTACT:(510) 644-2020
ORGANIZER;CN="Phillip Ranelli":https://trueskool.com/profile/PhillipRa
 nelli
ATTACH;FMTTYPE="image/jpeg":http://storage.ning.com/topology/rest/1.0/
 file/get/2248011073?profile=original
ATTENDEE;ROLE=REQ-PARTICIPANT;PARTSTAT=ACCEPTED;RSVP=TRUE;CN="Phillip 
 Ranelli":https://trueskool.com/profile/PhillipRanelli
END:VEVENT
END:VCALENDAR
