BEGIN:VCALENDAR
PRODID:NingEventWidget-v1
VERSION:2.0
METHOD:PUBLISH
BEGIN:VTIMEZONE
TZID:America/Los_Angeles
X-LIC-LOCATION:America/Los_Angeles
BEGIN:DAYLIGHT
TZOFFSETFROM:-0800
TZOFFSETTO:-0700
TZNAME:PDT
DTSTART:19700308T020000
RRULE:FREQ=YEARLY;BYMONTH=3;BYDAY=2SU
END:DAYLIGHT
BEGIN:STANDARD
TZOFFSETFROM:-0700
TZOFFSETTO:-0800
TZNAME:PST
DTSTART:19701101T020000
RRULE:FREQ=YEARLY;BYMONTH=11;BYDAY=1SU
END:STANDARD
END:VTIMEZONE
BEGIN:VEVENT
UID:1464587:Event:32712
DTSTAMP:20260422T153929Z
SUMMARY:Zap Mama
DESCRIPTION:\nZap Mama\n\nBimbo's 365 Club\n1025 Columbus Avenue (at C
 hestnut Street)\nSan Francisco, CA 94133\nDoors at 7 p.m. Show at 8 p.
 m.\n21 & over.\nTickets are $30.\n\nFor more information visit https:/
 /trueskool.com/events/zap-mama
DTSTART;TZID=America/Los_Angeles:20090618T190000
DTEND;TZID=America/Los_Angeles:20090618T230000
CATEGORIES:soul, afro, "r&b"
LOCATION:Bimbo's 365 Club, San Francisco
WEBSITE:http://www.ticketweb.com/t3/sale/SaleEventDetail?dispatch=load
 SelectionData&eventId=1217884&pl=bimbos
URL:http://www.ticketweb.com/t3/sale/SaleEventDetail?dispatch=loadSele
 ctionData&eventId=1217884&pl=bimbos
CONTACT:
ORGANIZER:Bimbo's 365 Club
ATTACH;FMTTYPE="image/jpeg":http://storage.ning.com/topology/rest/1.0/
 file/get/2247857510?profile=original
ATTENDEE;ROLE=REQ-PARTICIPANT;PARTSTAT=ACCEPTED;RSVP=TRUE;CN="Ren the 
 Vinyl Archaeologist":https://trueskool.com/profile/xh51jvilojur
END:VEVENT
END:VCALENDAR
