BEGIN:VCALENDAR
PRODID:NingEventWidget-v1
VERSION:2.0
METHOD:PUBLISH
BEGIN:VTIMEZONE
TZID:America/Los_Angeles
X-LIC-LOCATION:America/Los_Angeles
BEGIN:DAYLIGHT
TZOFFSETFROM:-0800
TZOFFSETTO:-0700
TZNAME:PDT
DTSTART:19700308T020000
RRULE:FREQ=YEARLY;BYMONTH=3;BYDAY=2SU
END:DAYLIGHT
BEGIN:STANDARD
TZOFFSETFROM:-0700
TZOFFSETTO:-0800
TZNAME:PST
DTSTART:19701101T020000
RRULE:FREQ=YEARLY;BYMONTH=11;BYDAY=1SU
END:STANDARD
END:VTIMEZONE
BEGIN:VEVENT
UID:1464587:Event:235486
DTSTAMP:20260421T053325Z
SUMMARY:Z-TRIP with Oakland Faders and Ill Alien
DESCRIPTION:“The best (DJ) show ever” -The Australian\nZ-Trip is c
 onsidered to be one of the best live performance DJs in history, by bo
 th fans and peers. Fans voted him “America’s Best DJ” in 2009, b
 eating out over 100 other DJ’s in; DJ’s Times highly acclaimed rea
 ders poll. It’s a fact that many call him the “godfather of mash-u
 ps”, as he is one of the originators of the genre. His worldwide sol
 d out shows continue to set attendance records while drawing critical 
 praise. “One of the great musical moments from Coachella (2002) was 
 the frenzied set by turntable wizard Z-Trip. He had fans howling and b
 obbing, closing his set with a surprise appearance by Beck.” -The LA
  Times. The LA Times review was well deserved as Z-Trip performed to a
  jam packed tent of over 10,000 that day.\nHe has crisscrossed the glo
 be numerous times since Coachella 2002, chalking up tons of rave revie
 ws along the way. He returned to Coachella 2010, for his 4th appearanc
 e at the festival headlining the Sahara Tent “Even against two of th
 e biggest draws on the schedule, Z-Trip raked ‘em in, filling the Sa
 hara with over 15,000 revelers,” Daily News. His recent Detroit Elec
 tronic Music Festival performance to over 10,000 stole the festival re
 ceiving the lions share of press; “Z-Trip lit up Saturday night, fir
 st by jamming with RJD2 then following with a Detroit-saluting mash-up
  set”- Billboard 2009. Most Friday nights you can find him at his ne
 w residency at Rain inside The Palms, Las Vegas. Entitled “Z-Trip’
 s Revolution” He has thrilled crowds there with his genre bending sk
 ills and surprise guests including Too Short, De La Soul , Rev Run and
  Three 6 Mafia.\nWorldwide sold out shows would be enough for most DJs
 , but not Z-Trip. Please do not call him a celebrity DJ. His career is
  too full of impressive producer/artist milestones for that. In 2009, 
 Z-Trip appeared as an in game character in DJ Hero; for which he also 
 supplied several original remixes and songs. In 2009 “Victory Lap”
  his last album did over 500,000 copies. “Victory Lap” (his homage
  to Obama) was reviewed favorably and recommended by Wired, Urb, BPM, 
 and XLR8R to name a few. Z-Trip’s longtime friend and collaborator S
 hepard Fairey supplied the art.\nZ-Trip’s major label debut “Shift
 ing Gears” was given 4 stars by Rolling Stone, in 2005. Shifting Gea
 rs featured Top 10 singles in the US and abroad. With appearances from
  many of Z-Trip’s friends; Chuck D, Chester Bennington of Linkin Par
 k, Murs and Soup of Jurassic 5.\n“Uneasy Listening” was his first 
 record to receive critical acclaim and helped propel Z-Trip to nationa
 l attention in 2002. It made album of the year lists in Spin, Rolling 
 Stone, Entertainment Weekly, Wired and XLR8R.\n\nFor more information 
 visit https://trueskool.com/events/z-trip
DTSTART;TZID=America/Los_Angeles:20130830T210000
DTEND;TZID=America/Los_Angeles:20130831T020000
CATEGORIES:"san francisco", "bay area"
LOCATION:Mezzanine
WEBSITE:http://www.ticketfly.com/event/304235?utm_source=trueskool
URL:http://www.ticketfly.com/event/304235?utm_source=trueskool
CONTACT:415.625.8880
ORGANIZER;CN=MezzanineSF:https://trueskool.com/profile/MezzanineSF
ATTACH;FMTTYPE="image/jpeg":http://storage.ning.com/topology/rest/1.0/
 file/get/2247946270?profile=original
ATTENDEE;ROLE=REQ-PARTICIPANT;PARTSTAT=ACCEPTED;RSVP=TRUE;CN="nika li"
 :https://trueskool.com/profile/nikali
ATTENDEE;ROLE=REQ-PARTICIPANT;PARTSTAT=ACCEPTED;RSVP=TRUE;CN="Carolina
  Quijano":https://trueskool.com/profile/CarolinaQuijano
ATTENDEE;ROLE=REQ-PARTICIPANT;PARTSTAT=ACCEPTED;RSVP=TRUE;CN=Mezzanine
 SF:https://trueskool.com/profile/MezzanineSF
END:VEVENT
END:VCALENDAR
