BEGIN:VCALENDAR
PRODID:NingEventWidget-v1
VERSION:2.0
METHOD:PUBLISH
BEGIN:VTIMEZONE
TZID:America/Los_Angeles
X-LIC-LOCATION:America/Los_Angeles
BEGIN:DAYLIGHT
TZOFFSETFROM:-0800
TZOFFSETTO:-0700
TZNAME:PDT
DTSTART:19700308T020000
RRULE:FREQ=YEARLY;BYMONTH=3;BYDAY=2SU
END:DAYLIGHT
BEGIN:STANDARD
TZOFFSETFROM:-0700
TZOFFSETTO:-0800
TZNAME:PST
DTSTART:19701101T020000
RRULE:FREQ=YEARLY;BYMONTH=11;BYDAY=1SU
END:STANDARD
END:VTIMEZONE
BEGIN:VEVENT
UID:1464587:Event:280206
DTSTAMP:20260421T065645Z
SUMMARY:Z-Trip (WIN TICKETS)
DESCRIPTION:\n\nFRIDAY, SEPT 20\nPublic Works Proud to welcome the leg
 endary \nDJ Z Trip\n\n+ DJ Goldenchyld\n\n+ J Boogie ( Om Records)\n\n
 + Ren the Vinyl Archaelogist (True Skool)\n\nFunktion One sound\n\nVis
 uals by allofitnow!\n \nThe Public Works\n161 Erie Street (Off Missio
 n between Duboce and 14th St), SF\n>> BUY TICKETS \nZ-Trip is consider
 ed to be one of the best live performance DJs in history, by both fans
  and peers. Fans voted him “America’s Best DJ” in 2009, beating 
 out over 100 other DJs in DJ Times highly acclaimed readers' poll. It
 s a fact that many call him the “godfather of mash-ups”, as he i
 s one of the originators of the genre. His worldwide sold-out shows co
 ntinue to set attendance records while drawing critical praise. \"One 
 of the great musical moments from Coachella (2002) was the frenzied se
 t by turntable wizard Z-Trip. He had fans howling and bobbing, closing
  his set with a surprise appearance by Beck.\" -The LA Times.\n The LA
  Times review was well deserved as Z-Trip performed to a jam packed te
 nt of over 10,000 that day.\n He has crisscrossed the globe numerous t
 imes since Coachella 2002, chalking up tons of rave reviews along the 
 way.\n\n\nFor more information visit https://trueskool.com/events/z-tr
 ip-2
DTSTART;TZID=America/Los_Angeles:20131220T210000
DTEND;TZID=America/Los_Angeles:20131221T020000
CATEGORIES:"bay area", "san francisco"
LOCATION:Public Works, SF
WEBSITE:http://www.publicsf.com
URL:http://www.publicsf.com
CONTACT:
ORGANIZER:Public Works SF
ATTACH;FMTTYPE="image/jpeg":http://storage.ning.com/topology/rest/1.0/
 file/get/2057416248?profile=original
ATTENDEE;ROLE=REQ-PARTICIPANT;PARTSTAT=ACCEPTED;RSVP=TRUE;CN="America 
 Roberts":https://trueskool.com/profile/AmericaRoberts
ATTENDEE;ROLE=REQ-PARTICIPANT;PARTSTAT=ACCEPTED;RSVP=TRUE;CN=Bryan:htt
 ps://trueskool.com/profile/Bryan
ATTENDEE;ROLE=REQ-PARTICIPANT;PARTSTAT=ACCEPTED;RSVP=TRUE;CN="Gwen Lom
 enech":https://trueskool.com/profile/GwenLomenech
ATTENDEE;ROLE=REQ-PARTICIPANT;PARTSTAT=ACCEPTED;RSVP=TRUE;CN="Joseph K
 im":https://trueskool.com/profile/JosephKim
ATTENDEE;ROLE=REQ-PARTICIPANT;PARTSTAT=ACCEPTED;RSVP=TRUE;CN="Sarah - 
 Reggae Gyals":https://trueskool.com/profile/SarahReggaeGyals
ATTENDEE;ROLE=REQ-PARTICIPANT;PARTSTAT=ACCEPTED;RSVP=TRUE;CN="Nancy La
 ws":https://trueskool.com/profile/NancyLaws
ATTENDEE;ROLE=REQ-PARTICIPANT;PARTSTAT=ACCEPTED;RSVP=TRUE;CN="jenni ma
 nn":https://trueskool.com/profile/jennimann
ATTENDEE;ROLE=REQ-PARTICIPANT;PARTSTAT=ACCEPTED;RSVP=TRUE;CN=Johnny5:h
 ttps://trueskool.com/profile/Johnny5
ATTENDEE;ROLE=REQ-PARTICIPANT;PARTSTAT=ACCEPTED;RSVP=TRUE;CN="Andrew D
 owd-Reilly":https://trueskool.com/profile/AndrewDowdReilly
ATTENDEE;ROLE=REQ-PARTICIPANT;PARTSTAT=ACCEPTED;RSVP=TRUE;CN="Uncle Je
 ss":https://trueskool.com/profile/UncleJess
ATTENDEE;ROLE=REQ-PARTICIPANT;PARTSTAT=ACCEPTED;RSVP=TRUE;CN=Itzalovet
 hang:https://trueskool.com/profile/Itzalovethang
ATTENDEE;ROLE=REQ-PARTICIPANT;PARTSTAT=ACCEPTED;RSVP=TRUE;CN="renee su
 lli":https://trueskool.com/profile/reneesulli
ATTENDEE;ROLE=REQ-PARTICIPANT;PARTSTAT=ACCEPTED;RSVP=TRUE;CN=Frost:htt
 ps://trueskool.com/profile/Frost
ATTENDEE;ROLE=REQ-PARTICIPANT;PARTSTAT=ACCEPTED;RSVP=TRUE;CN="Huy Hoan
 g":https://trueskool.com/profile/HuyHoang
ATTENDEE;ROLE=REQ-PARTICIPANT;PARTSTAT=ACCEPTED;RSVP=TRUE;CN="Staff Pi
 ck":https://trueskool.com/profile/Ren
ATTENDEE;ROLE=REQ-PARTICIPANT;PARTSTAT=TENTATIVE;RSVP=TRUE;CN=tonybone
 z:https://trueskool.com/profile/tonybonez
END:VEVENT
END:VCALENDAR
