BEGIN:VCALENDAR
PRODID:NingEventWidget-v1
VERSION:2.0
METHOD:PUBLISH
BEGIN:VTIMEZONE
TZID:America/Los_Angeles
X-LIC-LOCATION:America/Los_Angeles
BEGIN:DAYLIGHT
TZOFFSETFROM:-0800
TZOFFSETTO:-0700
TZNAME:PDT
DTSTART:19700308T020000
RRULE:FREQ=YEARLY;BYMONTH=3;BYDAY=2SU
END:DAYLIGHT
BEGIN:STANDARD
TZOFFSETFROM:-0700
TZOFFSETTO:-0800
TZNAME:PST
DTSTART:19701101T020000
RRULE:FREQ=YEARLY;BYMONTH=11;BYDAY=1SU
END:STANDARD
END:VTIMEZONE
BEGIN:VEVENT
UID:1464587:Event:53576
DTSTAMP:20260421T085413Z
SUMMARY:Yung Mars Project & Wooster
DESCRIPTION:WOOSTER:\n\"One of Santa Cruz' liveliest local acts, Woost
 er has become a crowd favorite in a relatively short period of time. T
 he band kicks on a winning amalgam of blues, soul and reggae anchored 
 by grooves played by crack players who know their way around some elas
 tic funk. The band's secret weapon is vocalist Caroline Kuspa, whose s
 inging chops and emotive power are undeniable. With the band gearing u
 p for the impending release of its eagerly awaited full-length The Hei
 ghts of Things, expect to hear a lot about Wooster in the months and y
 ears to come.\" - Paul Davis (Santa Cruz Weekly)\n\nYung Mars Project:
 \nBlending classic soul, modern beats, and futuristic funk, Yung Mars 
 has created and refined a sound that is truly original.\nBacked by an 
 all-star team of local musicians, his live shows are dripping with sou
 l and always energetic. With a penchant for clever word play and thick
  harmonized choruses, Mars’ songs are catchy without being cliché.\
 n\nDion Decibels (Thinkbeat Radio) will be spinning hip-hop/funk/soul/
 slumps\n\nFor more information visit https://trueskool.com/events/yung
 -mars-project-wooster
DTSTART;TZID=America/Los_Angeles:20100414T213000
DTEND;TZID=America/Los_Angeles:20100415T020000
CATEGORIES:blues, soul, hip, hop, funk, reggae, "r&b", rock
LOCATION:Madrone Art Bar
WEBSITE:http://madroneartbar.com
URL:http://madroneartbar.com
CONTACT:415 269-3950
ORGANIZER;CN="Mars Today":https://trueskool.com/profile/MrMarsToday
ATTACH;FMTTYPE="image/jpeg":http://storage.ning.com/topology/rest/1.0/
 file/get/2247876726?profile=original
ATTENDEE;ROLE=REQ-PARTICIPANT;PARTSTAT=ACCEPTED;RSVP=TRUE;CN="Mars Tod
 ay":https://trueskool.com/profile/MrMarsToday
END:VEVENT
END:VCALENDAR
