BEGIN:VCALENDAR
PRODID:NingEventWidget-v1
VERSION:2.0
METHOD:PUBLISH
BEGIN:VTIMEZONE
TZID:America/Los_Angeles
X-LIC-LOCATION:America/Los_Angeles
BEGIN:DAYLIGHT
TZOFFSETFROM:-0800
TZOFFSETTO:-0700
TZNAME:PDT
DTSTART:19700308T020000
RRULE:FREQ=YEARLY;BYMONTH=3;BYDAY=2SU
END:DAYLIGHT
BEGIN:STANDARD
TZOFFSETFROM:-0700
TZOFFSETTO:-0800
TZNAME:PST
DTSTART:19701101T020000
RRULE:FREQ=YEARLY;BYMONTH=11;BYDAY=1SU
END:STANDARD
END:VTIMEZONE
BEGIN:VEVENT
UID:1464587:Event:62198
DTSTAMP:20260421T004236Z
SUMMARY:Yung Mars Project, Beetiki, & Mikos & The Whooligan (40Love) +
  Dj. Dion Decibels
DESCRIPTION:Coda Lounge Presents: A Night of Home-Grown Hip-Hop, Neo-S
 oul, Funk, and more.\n\nBEETIKI, (formerly of Elemnop) will be perform
 ing a showcase set backed by an all-star lineup of musicians. He will 
 be performing songs from his recently released record, \"I am I\". Thi
 s album features 17 tracks with features from San Quinn, Bambu (Native
  Guns), Emassin, Melina Jones, Rojia of Bayonics and more!\n\nThe Yung
  Mars Project, in their complete 8 piece form will be providing a refr
 eshing take on Hip-Hop. Blending classic soul, modern beats, and futur
 istic funk, Yung Mars has created and refined a sound that is truly or
 iginal. With a penchant for clever word play and thick harmonized chor
 uses, Mars’ songs are catchy without being cliché.\n\nHis latest Re
 lease, \"Santa Cruz or Bust\" made waves on CMJ charts holding firm at
  the Nationwide #5 Hip-Hop album for 2 months this spring. \n\nMikos
  (40Love) is one of the city's finest young producers. He was recently
  selected to compete in Red Bull's \"BIG TUNE\" battle, and is the mai
 n beat maker for 40Love. MIKOS will be performing an exclusive \"BEAT\
 " set featuring his favorite Bay Area underground emcees.\n\nA Bay Are
 a native and national, rising taste-maker Julio Galvez, known by many 
 as \"the Whooligan,\" is a dedicated lover and student of music spanni
 ng all genres, cultures, languages, philosophies and countries from ar
 ound the world.  The Whooligan (Om Records) sets the tone for ever
 y event he spins with a refreshingly new and old school style.\n\n+ DJ
 . DION DECIBELS (Thinkbeat Radio) on the ones and twos.\n\nFor more in
 formation visit https://trueskool.com/events/yung-mars-project-beetiki
DTSTART;TZID=America/Los_Angeles:20100730T220000
DTEND;TZID=America/Los_Angeles:20100731T020000
CATEGORIES:hip-hop, neo-soul, future-funk, "r&b", "reggae..."
LOCATION:The Coda Lounge
WEBSITE:http://codalive.com
URL:http://codalive.com
CONTACT:
ORGANIZER;CN="Mars Today":https://trueskool.com/profile/MrMarsToday
ATTACH;FMTTYPE="image/jpeg":http://storage.ning.com/topology/rest/1.0/
 file/get/2247882320?profile=original
ATTENDEE;ROLE=REQ-PARTICIPANT;PARTSTAT=ACCEPTED;RSVP=TRUE;CN="Mars Tod
 ay":https://trueskool.com/profile/MrMarsToday
END:VEVENT
END:VCALENDAR
