BEGIN:VCALENDAR
PRODID:NingEventWidget-v1
VERSION:2.0
METHOD:PUBLISH
BEGIN:VTIMEZONE
TZID:America/Los_Angeles
X-LIC-LOCATION:America/Los_Angeles
BEGIN:DAYLIGHT
TZOFFSETFROM:-0800
TZOFFSETTO:-0700
TZNAME:PDT
DTSTART:19700308T020000
RRULE:FREQ=YEARLY;BYMONTH=3;BYDAY=2SU
END:DAYLIGHT
BEGIN:STANDARD
TZOFFSETFROM:-0700
TZOFFSETTO:-0800
TZNAME:PST
DTSTART:19701101T020000
RRULE:FREQ=YEARLY;BYMONTH=11;BYDAY=1SU
END:STANDARD
END:VTIMEZONE
BEGIN:VEVENT
UID:1464587:Event:310596
DTSTAMP:20260421T022041Z
SUMMARY:Yuna
DESCRIPTION:Sun. February 16, 2014Yuna Presented By Great American M
 usic Hall\n\n\nGen. Adm. Seating Limited \nDoors @ 7:00 PMEvent @ 8:0
 0 PM\n\n\n\n$4.00\n\n\n\nDinner & AdmissionSun. Feb 16th, 2014Doors @ 
 7:00 PMEvent @ 8:00 PM\n\n$43.95\n\nSOLD OUT\n\n\n\n\n\nFor more infor
 mation visit https://trueskool.com/events/yuna
DTSTART;TZID=America/Los_Angeles:20140216T200000
DTEND;TZID=America/Los_Angeles:20140216T230000
CATEGORIES:"bay area", "san francisco", "oakland\""
LOCATION:Great American Music Hall, San Francisco
WEBSITE:http://tickets.gamh.com/evinfo.php?eventid=382701
URL:http://tickets.gamh.com/evinfo.php?eventid=382701
CONTACT:
ORGANIZER;CN="Editor's Pick":https://trueskool.com/profile/RentheVinyl
 Archaeologist
ATTACH;FMTTYPE="image/jpeg":http://storage.ning.com/topology/rest/1.0/
 file/get/2247956533?profile=original
ATTENDEE;ROLE=REQ-PARTICIPANT;PARTSTAT=ACCEPTED;RSVP=TRUE;CN="Richard 
 J. Tover":https://trueskool.com/profile/RichardJTover
ATTENDEE;ROLE=REQ-PARTICIPANT;PARTSTAT=ACCEPTED;RSVP=TRUE;CN="Editor's
  Pick":https://trueskool.com/profile/RentheVinylArchaeologist
END:VEVENT
END:VCALENDAR
