BEGIN:VCALENDAR
PRODID:NingEventWidget-v1
VERSION:2.0
METHOD:PUBLISH
BEGIN:VTIMEZONE
TZID:America/Los_Angeles
X-LIC-LOCATION:America/Los_Angeles
BEGIN:DAYLIGHT
TZOFFSETFROM:-0800
TZOFFSETTO:-0700
TZNAME:PDT
DTSTART:19700308T020000
RRULE:FREQ=YEARLY;BYMONTH=3;BYDAY=2SU
END:DAYLIGHT
BEGIN:STANDARD
TZOFFSETFROM:-0700
TZOFFSETTO:-0800
TZNAME:PST
DTSTART:19701101T020000
RRULE:FREQ=YEARLY;BYMONTH=11;BYDAY=1SU
END:STANDARD
END:VTIMEZONE
BEGIN:VEVENT
UID:1464587:Event:284089
DTSTAMP:20260421T010429Z
SUMMARY:Young Professionals Presents...Mr. Carmack, Buku, Great Dane, 
 Penthouse Penthouse, Bogl!
DESCRIPTION:+++++THAT LINEUP THO+++++  Yo it's the Nightmare After X-M
 as, The going away party for big bad Bogl, The premier Young Professio
 nals event and lawdy it's gonna be amazing.  Music:  Mr. Carmack (Mad 
 Decent)  Yo you probably already know, we probably don't even have to 
 say but just in case you haven't heard: hand this dude the crown right
  now. Hailing from Hawaii Mr. Carmack has been littering the internet 
 with fire tracks for the last few years, \"Bang: Vol. 3\" and This yea
 rs \"Birth Control/Hopscotch\" single under the Mad Decent imprint hav
 e garnered world-wide (and much deserved) attention. A striking marria
 ge of boom bap fundamentals, sound design and an ear for melodies Mr. 
 Carmack twists everything from smoked out head nodders to peak hour Tw
 erk anthems.  On the web: soundcloud.com/mr_carmack mrcarmack.bandcamp
 .com maddecent.com/artists/mr-carmack/   Buku (Pilot Records, Civil Mu
 sic, Seclusiasis)  Straight outta Pittsburgh, Buku has been cranking o
 ut fire tunes and remixes for all manner of labels lately. \"All Deez\
 " from his Pilot Records E.P. \"Janky\" appears in roughly 9 million m
 ixes(metric) from 2012. Infectious drum patterns and synths that make 
 you want to wiggle like never before.  On the web: soundcloud.com/buku
  bukubass.com  Great Dane (Team Supreme)  You like drums sons? Got em,
  dat bass too. Samples? Yo already done homie. What can we say this yo
 ung beast from Los Angeles' Team Supreme other than homie ripped our f
 aces in Oakland a few months ago. His \"L.A. Freeway Essentials Vol.2\
 " has pretty much been on repeat at my house.  On the web: soundcloud.
 com/grrrreatdane http://youtu.be/qySK4hJCZ7k  Penthouse Penthouse (Tea
 m Supreme)\n These smooth young gentleman have been making a splash in
  several categories recently. From smooth hip hop to sexy house beats.
  They will most definitely make your panties drop whether it be with t
 heir jazzy compositions or stunning good looks!    https://soundcloud
 .com/penthouse-penthouse  Bogl (Soundpieces)   This guy.\n On the web
 :\nhttps://soundcloud.com/griffinbogl\nSpecial Guests:  Mr Kitt, Danny
  Magic & More!\n 21+ strictly enforced\n\nFor more information visit h
 ttps://trueskool.com/events/young-professionals-presents-mr-carmack-bu
 ku-great-dane-penthouse
DTSTART;TZID=America/Los_Angeles:20131228T210000
DTEND;TZID=America/Los_Angeles:20131229T030000
CATEGORIES:san, francisco, bay, area, california
LOCATION:Mighty, San Francisco
WEBSITE:http://www.eventbrite.com/e/young-professionals-presentsmr-car
 mack-buku-great-dane-penthouse-penthouse-bogl-tickets-9524978467
URL:http://www.eventbrite.com/e/young-professionals-presentsmr-carmack
 -buku-great-dane-penthouse-penthouse-bogl-tickets-9524978467
CONTACT:
ORGANIZER;CN="Alexandra Alden":https://trueskool.com/profile/Alexandra
 Alden
ATTACH;FMTTYPE="image/jpeg":http://storage.ning.com/topology/rest/1.0/
 file/get/2247955935?profile=original
ATTENDEE;ROLE=REQ-PARTICIPANT;PARTSTAT=ACCEPTED;RSVP=TRUE;CN="Alexandr
 a Alden":https://trueskool.com/profile/AlexandraAlden
END:VEVENT
END:VCALENDAR
