BEGIN:VCALENDAR
PRODID:NingEventWidget-v1
VERSION:2.0
METHOD:PUBLISH
BEGIN:VTIMEZONE
TZID:America/Los_Angeles
X-LIC-LOCATION:America/Los_Angeles
BEGIN:DAYLIGHT
TZOFFSETFROM:-0800
TZOFFSETTO:-0700
TZNAME:PDT
DTSTART:19700308T020000
RRULE:FREQ=YEARLY;BYMONTH=3;BYDAY=2SU
END:DAYLIGHT
BEGIN:STANDARD
TZOFFSETFROM:-0700
TZOFFSETTO:-0800
TZNAME:PST
DTSTART:19701101T020000
RRULE:FREQ=YEARLY;BYMONTH=11;BYDAY=1SU
END:STANDARD
END:VTIMEZONE
BEGIN:VEVENT
UID:1464587:Event:41216
DTSTAMP:20260420T230620Z
SUMMARY:Yoshi’s Oakland Presents The Kev Choice Ensemble (Win Ticket
 s)
DESCRIPTION:WIN A PAIR OF TICKETS. Send your FULL NAME to trueskoolcon
 test@gmail.com with \"Kev Choice Ensemble\" in the Subject Line. Winne
 r will be drawn randomly 3 days prior to event.\n\n\n\nYoshi’s Oakla
 nd Presents\nThe Kev Choice Ensemble\n\nPianist-emcee Kev Choice leads
  his 10-pc. outfit -- the Kev Choice Ensemble -- through the aural equ
 ivalent of a master class in African American music. This enormously t
 alented unit lays down symphonic slap, furious funk, sweet soul, jumpi
 n’ jazz, and hype hip-hop (with a conscious lyrical twist). Covering
  a wide stylistic base with finesse, flair, and serious chops, the KCE
  gives you more music than you’re used to getting, but not more than
  you deserve.\n\nSponsors\n* East Bay Express * Fusicology * Going * H
 ard Knock Radio * Legend Mag * SFWeekly.com *\n* The Oakbook * True Sk
 ool * Yelp East Bay * James Bowyer Photography *\n\nSupporters\n* Soci
 ally Flyy * Spicey Promotions * Tastemaker Live * JE Presents * Oaklan
 d Events *\n\nBUY TICKETS\n\nFOLLOW @KCEnsemble on Twitter\nJOIN the K
 CE Facebook Fan Page\n\nEvent Information:\nMonday, October 26, 2009\n
 8:00 PM - 9:30 PM\nAll Ages\ncover: $14.00\nDoors 7:30 PM; Show 8:00 P
 M\nmusic: Hip Hop, Funk, Jazz, Soul\n\nVenue Information:\nYoshi's Oak
 land\n510 Embarcadero West\nJack London Square\nOakland, CA 94607\nPho
 ne: 510-238-9200\nhttp://yoshis.com/\n\nFor more information visit htt
 ps://trueskool.com/events/yoshis-oakland-presents-the
DTSTART;TZID=America/Los_Angeles:20091026T200000
DTEND;TZID=America/Los_Angeles:20091026T213000
CATEGORIES:hip-hop, jazz, funk, soul
LOCATION:Yoshi's Oakland
WEBSITE:http://yoshis.com/
URL:http://yoshis.com/
CONTACT:510-238-9200
ORGANIZER:Yoshi's Oakland
ATTACH;FMTTYPE="image/jpeg":http://storage.ning.com/topology/rest/1.0/
 file/get/2247867171?profile=original
ATTENDEE;ROLE=REQ-PARTICIPANT;PARTSTAT=ACCEPTED;RSVP=TRUE;CN="ZSA-ZSA 
 INC":https://trueskool.com/profile/ZSAZSAINC
END:VEVENT
END:VCALENDAR
