BEGIN:VCALENDAR
PRODID:NingEventWidget-v1
VERSION:2.0
METHOD:PUBLISH
BEGIN:VTIMEZONE
TZID:America/Los_Angeles
X-LIC-LOCATION:America/Los_Angeles
BEGIN:DAYLIGHT
TZOFFSETFROM:-0800
TZOFFSETTO:-0700
TZNAME:PDT
DTSTART:19700308T020000
RRULE:FREQ=YEARLY;BYMONTH=3;BYDAY=2SU
END:DAYLIGHT
BEGIN:STANDARD
TZOFFSETFROM:-0700
TZOFFSETTO:-0800
TZNAME:PST
DTSTART:19701101T020000
RRULE:FREQ=YEARLY;BYMONTH=11;BYDAY=1SU
END:STANDARD
END:VTIMEZONE
BEGIN:VEVENT
UID:1464587:Event:674671
DTSTAMP:20260421T220535Z
SUMMARY:YFN Lucci
DESCRIPTION:TUESDAY, MAY 8YFN LucciQ MoneyYFN KayYFN Trae PoundFat Boy
  SSEOSB\r\n@ Slim's, San Franciscodoors 7pm/show 8pmTickets are $23 ad
 vance/$25 door>> BUY TICKETS\r\n\n\nFor more information visit https:/
 /trueskool.com/events/yfn-lucci
DTSTART;TZID=America/Los_Angeles:20180508T190000
DTEND;TZID=America/Los_Angeles:20180508T230000
CATEGORIES:"bay area", "san francisco"
LOCATION:Slim's, San Francisco
WEBSITE:http://www.slimspresents.com/event/yfn-lucci-slims/
URL:http://www.slimspresents.com/event/yfn-lucci-slims/
CONTACT:
ORGANIZER:Slim's
ATTACH;FMTTYPE="image/jpeg":http://storage.ning.com/topology/rest/1.0/
 file/get/2248007631?profile=original
ATTENDEE;ROLE=REQ-PARTICIPANT;PARTSTAT=ACCEPTED;RSVP=TRUE;CN="Editor's
  Pick":https://trueskool.com/profile/RentheVinylArchaeologist
END:VEVENT
END:VCALENDAR
