BEGIN:VCALENDAR
PRODID:NingEventWidget-v1
VERSION:2.0
METHOD:PUBLISH
BEGIN:VTIMEZONE
TZID:America/Los_Angeles
X-LIC-LOCATION:America/Los_Angeles
BEGIN:DAYLIGHT
TZOFFSETFROM:-0800
TZOFFSETTO:-0700
TZNAME:PDT
DTSTART:19700308T020000
RRULE:FREQ=YEARLY;BYMONTH=3;BYDAY=2SU
END:DAYLIGHT
BEGIN:STANDARD
TZOFFSETFROM:-0700
TZOFFSETTO:-0800
TZNAME:PST
DTSTART:19701101T020000
RRULE:FREQ=YEARLY;BYMONTH=11;BYDAY=1SU
END:STANDARD
END:VTIMEZONE
BEGIN:VEVENT
UID:1464587:Event:277046
DTSTAMP:20260421T132045Z
SUMMARY:YASIIN BEY aka Mos Def (WIN TICKETS)
DESCRIPTION:\n\nThursday December 19th\nYASIIN BEY aka Mos Def\nPerfor
 ming Live\n \n+ Kev Choice, JAHI\nDJ's D-Sharp, Mr.E, Leydis\n \n@ 1
 015 Folsom SF\nhttp://www.mosdef1015.eventbrite.com/\n\nFor more infor
 mation visit https://trueskool.com/events/yasiin-bey-aka-mos-def
DTSTART;TZID=America/Los_Angeles:20131219T210000
DTEND;TZID=America/Los_Angeles:20131220T030000
CATEGORIES:"bay area", "san francisco"
LOCATION:1015, San Francisco
WEBSITE:http://www.mosdef1015.eventbrite.com/
URL:http://www.mosdef1015.eventbrite.com/
CONTACT:
ORGANIZER:Ankh Marketing
ATTACH;FMTTYPE="image/jpeg":http://storage.ning.com/topology/rest/1.0/
 file/get/2247954287?profile=original
ATTENDEE;ROLE=REQ-PARTICIPANT;PARTSTAT=ACCEPTED;RSVP=TRUE;CN="Jennifer
  Adams":https://trueskool.com/profile/JenniferAdams
ATTENDEE;ROLE=REQ-PARTICIPANT;PARTSTAT=ACCEPTED;RSVP=TRUE;CN="Andrea B
 arros":https://trueskool.com/profile/AndreaBarros
ATTENDEE;ROLE=REQ-PARTICIPANT;PARTSTAT=ACCEPTED;RSVP=TRUE;CN="Eric Dur
 an":https://trueskool.com/profile/EricDuran
ATTENDEE;ROLE=REQ-PARTICIPANT;PARTSTAT=ACCEPTED;RSVP=TRUE;CN="Sarah - 
 Reggae Gyals":https://trueskool.com/profile/SarahReggaeGyals
ATTENDEE;ROLE=REQ-PARTICIPANT;PARTSTAT=ACCEPTED;RSVP=TRUE;CN="Nancy La
 ws":https://trueskool.com/profile/NancyLaws
ATTENDEE;ROLE=REQ-PARTICIPANT;PARTSTAT=ACCEPTED;RSVP=TRUE;CN=Johnny5:h
 ttps://trueskool.com/profile/Johnny5
ATTENDEE;ROLE=REQ-PARTICIPANT;PARTSTAT=ACCEPTED;RSVP=TRUE;CN="Sophia H
 ernandez":https://trueskool.com/profile/2znbunh2dhily
ATTENDEE;ROLE=REQ-PARTICIPANT;PARTSTAT=ACCEPTED;RSVP=TRUE;CN="Andrew D
 owd-Reilly":https://trueskool.com/profile/AndrewDowdReilly
ATTENDEE;ROLE=REQ-PARTICIPANT;PARTSTAT=ACCEPTED;RSVP=TRUE;CN="maritza 
 dominguez":https://trueskool.com/profile/maritzadominguez
ATTENDEE;ROLE=REQ-PARTICIPANT;PARTSTAT=ACCEPTED;RSVP=TRUE;CN="Calvin L
 in":https://trueskool.com/profile/CalvinLin
ATTENDEE;ROLE=REQ-PARTICIPANT;PARTSTAT=ACCEPTED;RSVP=TRUE;CN="Alisha P
 are":https://trueskool.com/profile/AlishaPare
ATTENDEE;ROLE=REQ-PARTICIPANT;PARTSTAT=ACCEPTED;RSVP=TRUE;CN="Holly Fr
 iedmann":https://trueskool.com/profile/HollyFriedmann
ATTENDEE;ROLE=REQ-PARTICIPANT;PARTSTAT=ACCEPTED;RSVP=TRUE;CN="Muriel V
 inson":https://trueskool.com/profile/MurielVinson
ATTENDEE;ROLE=REQ-PARTICIPANT;PARTSTAT=ACCEPTED;RSVP=TRUE;CN=Lena:http
 s://trueskool.com/profile/Lena
ATTENDEE;ROLE=REQ-PARTICIPANT;PARTSTAT=ACCEPTED;RSVP=TRUE;CN=Patanisha
 :https://trueskool.com/profile/Patanisha
ATTENDEE;ROLE=REQ-PARTICIPANT;PARTSTAT=ACCEPTED;RSVP=TRUE;CN="Iris E."
 :https://trueskool.com/profile/IrisE
ATTENDEE;ROLE=REQ-PARTICIPANT;PARTSTAT=ACCEPTED;RSVP=TRUE;CN=Frost:htt
 ps://trueskool.com/profile/Frost
ATTENDEE;ROLE=REQ-PARTICIPANT;PARTSTAT=ACCEPTED;RSVP=TRUE;CN="Jennifer
  Scroggins":https://trueskool.com/profile/JenniferScroggins
ATTENDEE;ROLE=REQ-PARTICIPANT;PARTSTAT=ACCEPTED;RSVP=TRUE;CN="Amanda P
 anda":https://trueskool.com/profile/hierohead
ATTENDEE;ROLE=REQ-PARTICIPANT;PARTSTAT=ACCEPTED;RSVP=TRUE;CN="G..":htt
 ps://trueskool.com/profile/G339
ATTENDEE;ROLE=REQ-PARTICIPANT;PARTSTAT=ACCEPTED;RSVP=TRUE;CN="Demetria
  Lawrence":https://trueskool.com/profile/DemetriaLawrence
ATTENDEE;ROLE=REQ-PARTICIPANT;PARTSTAT=ACCEPTED;RSVP=TRUE;CN="Derrick 
 Ratliff":https://trueskool.com/profile/DerrickRatliff
ATTENDEE;ROLE=REQ-PARTICIPANT;PARTSTAT=ACCEPTED;RSVP=TRUE;CN="alexa ch
 ua":https://trueskool.com/profile/alexachua
ATTENDEE;ROLE=REQ-PARTICIPANT;PARTSTAT=ACCEPTED;RSVP=TRUE;CN=J:https:/
 /trueskool.com/profile/J321
ATTENDEE;ROLE=REQ-PARTICIPANT;PARTSTAT=ACCEPTED;RSVP=TRUE;CN="Michelle
  Au":https://trueskool.com/profile/MichelleAu
ATTENDEE;ROLE=REQ-PARTICIPANT;PARTSTAT=ACCEPTED;RSVP=TRUE;CN="Joseph K
 im":https://trueskool.com/profile/JosephKim
ATTENDEE;ROLE=REQ-PARTICIPANT;PARTSTAT=ACCEPTED;RSVP=TRUE;CN="Lauren O
 'Neill":https://trueskool.com/profile/LaurenONeill
ATTENDEE;ROLE=REQ-PARTICIPANT;PARTSTAT=ACCEPTED;RSVP=TRUE;CN="Jon Schr
 oeder":https://trueskool.com/profile/JonSchroeder
ATTENDEE;ROLE=REQ-PARTICIPANT;PARTSTAT=ACCEPTED;RSVP=TRUE;CN="Frank Vi
 loria":https://trueskool.com/profile/DJILLusive
ATTENDEE;ROLE=REQ-PARTICIPANT;PARTSTAT=ACCEPTED;RSVP=TRUE;CN="Huy Hoan
 g":https://trueskool.com/profile/HuyHoang
ATTENDEE;ROLE=REQ-PARTICIPANT;PARTSTAT=ACCEPTED;RSVP=TRUE;CN="Elisa Bj
 eldanes":https://trueskool.com/profile/ElisaBjeldanes
ATTENDEE;ROLE=REQ-PARTICIPANT;PARTSTAT=ACCEPTED;RSVP=TRUE;CN="Chris Ti
 ch":https://trueskool.com/profile/ChrisTich
ATTENDEE;ROLE=REQ-PARTICIPANT;PARTSTAT=ACCEPTED;RSVP=TRUE;CN="Brianna 
 M. Sylvers":https://trueskool.com/profile/BriannaMSylvers
ATTENDEE;ROLE=REQ-PARTICIPANT;PARTSTAT=ACCEPTED;RSVP=TRUE;CN="Joy Ng":
 https://trueskool.com/profile/JoyskiiSF
ATTENDEE;ROLE=REQ-PARTICIPANT;PARTSTAT=ACCEPTED;RSVP=TRUE;CN="Johnny L
 iao":https://trueskool.com/profile/JohnnyLiao
ATTENDEE;ROLE=REQ-PARTICIPANT;PARTSTAT=ACCEPTED;RSVP=TRUE;CN="Kerry Gr
 aham-Walter":https://trueskool.com/profile/KerryGrahamWalter
ATTENDEE;ROLE=REQ-PARTICIPANT;PARTSTAT=ACCEPTED;RSVP=TRUE;CN="Jesse Wi
 ltey":https://trueskool.com/profile/JesseWiltey
ATTENDEE;ROLE=REQ-PARTICIPANT;PARTSTAT=ACCEPTED;RSVP=TRUE;CN="Editor's
  Pick":https://trueskool.com/profile/RentheVinylArchaeologist
ATTENDEE;ROLE=REQ-PARTICIPANT;PARTSTAT=TENTATIVE;RSVP=TRUE;CN=tonybone
 z:https://trueskool.com/profile/tonybonez
END:VEVENT
END:VCALENDAR
