BEGIN:VCALENDAR
PRODID:NingEventWidget-v1
VERSION:2.0
METHOD:PUBLISH
BEGIN:VTIMEZONE
TZID:America/Los_Angeles
X-LIC-LOCATION:America/Los_Angeles
BEGIN:DAYLIGHT
TZOFFSETFROM:-0800
TZOFFSETTO:-0700
TZNAME:PDT
DTSTART:19700308T020000
RRULE:FREQ=YEARLY;BYMONTH=3;BYDAY=2SU
END:DAYLIGHT
BEGIN:STANDARD
TZOFFSETFROM:-0700
TZOFFSETTO:-0800
TZNAME:PST
DTSTART:19701101T020000
RRULE:FREQ=YEARLY;BYMONTH=11;BYDAY=1SU
END:STANDARD
END:VTIMEZONE
BEGIN:VEVENT
UID:1464587:Event:690935
DTSTAMP:20260424T201134Z
SUMMARY:Yasiin Bey
DESCRIPTION:\r\nFriday, October 25, 2019\r\nBlack on Both Sides 20th A
 nniversary Concert Yasiin Bey performing the album in its entirety\r\n
 Featuring:\r\nYASIIN BEY  ERYKAH BADU  Busta Rhymes  Slick Rick  Souls
  of Mischief  DJ Big Von Plus surprise special guests!\r\n\r\n@ Greek 
 Theatre, 2001 Gayley Rd, Berkeley, CA 94720\r\nDoors: 5:00pm | Show: 6
 :00pm\r\nThis event is all ages.\r\n$69.50 – General Admission\r\n*p
 lus applicable service fees\r\n>> BUY TICKETS\r\n\r\n\r\n\n\nFor more 
 information visit https://trueskool.com/events/yasiin-bey-1
DTSTART;TZID=America/Los_Angeles:20191025T180000
DTEND;TZID=America/Los_Angeles:20191025T230000
CATEGORIES:"bay area", oakland, "san francisco", "san jose", berkeley
LOCATION:Greek Theatre, Berkeley
WEBSITE:https://www.ticketmaster.com/mos-defs-black-on-both-sides-berk
 eley-california-10-25-2019/event/1C0057120FEA9B04?camefrom=CFC_ANOTHER
 PLANET_web&amp;amp;amp;brand=anotherplanet
URL:https://www.ticketmaster.com/mos-defs-black-on-both-sides-berkeley
 -california-10-25-2019/event/1C0057120FEA9B04?camefrom=CFC_ANOTHERPLAN
 ET_web&amp;amp;amp;brand=anotherplanet
CONTACT:
ORGANIZER:Another Planet Ent
ATTACH;FMTTYPE="image/jpeg":https://storage.ning.com/topology/rest/1.0
 /file/get/3553446045?profile=original
ATTENDEE;ROLE=REQ-PARTICIPANT;PARTSTAT=ACCEPTED;RSVP=TRUE;CN="Editor's
  Pick":https://trueskool.com/profile/RentheVinylArchaeologist
END:VEVENT
END:VCALENDAR
