BEGIN:VCALENDAR
PRODID:NingEventWidget-v1
VERSION:2.0
METHOD:PUBLISH
BEGIN:VTIMEZONE
TZID:America/Los_Angeles
X-LIC-LOCATION:America/Los_Angeles
BEGIN:DAYLIGHT
TZOFFSETFROM:-0800
TZOFFSETTO:-0700
TZNAME:PDT
DTSTART:19700308T020000
RRULE:FREQ=YEARLY;BYMONTH=3;BYDAY=2SU
END:DAYLIGHT
BEGIN:STANDARD
TZOFFSETFROM:-0700
TZOFFSETTO:-0800
TZNAME:PST
DTSTART:19701101T020000
RRULE:FREQ=YEARLY;BYMONTH=11;BYDAY=1SU
END:STANDARD
END:VTIMEZONE
BEGIN:VEVENT
UID:1464587:Event:284440
DTSTAMP:20260421T164248Z
SUMMARY:Xmas Benefit Party
DESCRIPTION:Celebrate holiday season in a warm company, help a good ca
 use & share some sunny karma with old & new friends. Join the best & t
 he brightest of San Francisco & Silicon Valley for some holiday cheer,
  surprises, cocktails, fun, dancing & charity raffle prizes: flight on
  a private plane, iPad mini 2, tix to Justin Timberlake and Kiwi Tim
 e, designer watches and many more Xmas stocking stuffers. RSVP is via 
 a purchase of a charity raffle ticket on SunnyKarma.com: http://bit.
 ly/Sunny-Xmas\n\nFor more information visit https://trueskool.com/even
 ts/xmas-benefit-party
DTSTART;TZID=America/Los_Angeles:20131218T180000
DTEND;TZID=America/Los_Angeles:20131219T020000
CATEGORIES:vessel, san, francisco
LOCATION:Vessel, San Francisco, CA
WEBSITE:http://bit.ly/Sunny-Xmas
URL:http://bit.ly/Sunny-Xmas
CONTACT:
ORGANIZER:Sunny Karma
ATTACH;FMTTYPE="image/jpeg":http://storage.ning.com/topology/rest/1.0/
 file/get/2247954932?profile=original
ATTENDEE;ROLE=REQ-PARTICIPANT;PARTSTAT=ACCEPTED;RSVP=TRUE;CN="Maria Po
 ly":https://trueskool.com/profile/MariaPoly
END:VEVENT
END:VCALENDAR
