BEGIN:VCALENDAR
PRODID:NingEventWidget-v1
VERSION:2.0
METHOD:PUBLISH
BEGIN:VTIMEZONE
TZID:America/Los_Angeles
X-LIC-LOCATION:America/Los_Angeles
BEGIN:DAYLIGHT
TZOFFSETFROM:-0800
TZOFFSETTO:-0700
TZNAME:PDT
DTSTART:19700308T020000
RRULE:FREQ=YEARLY;BYMONTH=3;BYDAY=2SU
END:DAYLIGHT
BEGIN:STANDARD
TZOFFSETFROM:-0700
TZOFFSETTO:-0800
TZNAME:PST
DTSTART:19701101T020000
RRULE:FREQ=YEARLY;BYMONTH=11;BYDAY=1SU
END:STANDARD
END:VTIMEZONE
BEGIN:VEVENT
UID:1464587:Event:239161
DTSTAMP:20260421T040328Z
SUMMARY:xAfrolicious w/ Nappy G (NYC) & Romanowski (CD Release Party) 
 Thursday Aug 29th at Elbo Room
DESCRIPTION:https://www.facebook.com/events/442335379212890/4429726958
 15825/?notif_t=plan_mall_activity\n\nFor more information visit https:
 //trueskool.com/events/xafrolicious-w-nappy-g-nyc-romanowski-cd-releas
 e-party-thursday
DTSTART;TZID=America/Los_Angeles:20130828T180000
DTEND;TZID=America/Los_Angeles:20130828T190000
CATEGORIES:san, francisco
LOCATION:Elbo Room
WEBSITE:https://www.facebook.com/events/442335379212890/44297269581582
 5/?notif_t=plan_mall_activity
URL:https://www.facebook.com/events/442335379212890/442972695815825/?n
 otif_t=plan_mall_activity
CONTACT:
ORGANIZER;CN=ROMANOWSKI:https://trueskool.com/profile/ROMANOWSKI
ATTACH;FMTTYPE="image/jpeg":
ATTENDEE;ROLE=REQ-PARTICIPANT;PARTSTAT=ACCEPTED;RSVP=TRUE;CN=ROMANOWSK
 I:https://trueskool.com/profile/ROMANOWSKI
END:VEVENT
END:VCALENDAR
