BEGIN:VCALENDAR
PRODID:NingEventWidget-v1
VERSION:2.0
METHOD:PUBLISH
BEGIN:VTIMEZONE
TZID:America/Los_Angeles
X-LIC-LOCATION:America/Los_Angeles
BEGIN:DAYLIGHT
TZOFFSETFROM:-0800
TZOFFSETTO:-0700
TZNAME:PDT
DTSTART:19700308T020000
RRULE:FREQ=YEARLY;BYMONTH=3;BYDAY=2SU
END:DAYLIGHT
BEGIN:STANDARD
TZOFFSETFROM:-0700
TZOFFSETTO:-0800
TZNAME:PST
DTSTART:19701101T020000
RRULE:FREQ=YEARLY;BYMONTH=11;BYDAY=1SU
END:STANDARD
END:VTIMEZONE
BEGIN:VEVENT
UID:1464587:Event:70581
DTSTAMP:20260420T132041Z
SUMMARY:Wu Tang's INSPECTAH DECK & MASTA KILLA
DESCRIPTION:Alchemetric Productions Presents...\n\nWUTANG's\n\nINSPECT
 AH DECK & MASTA KILLA\n\nalong with DJs:\n\nKEVVY KEV\nARI WHY\n\nHost
 ed by:\nFlossafee & Mandeep Sethi\n\nPresale tix $10\nwutangimpala.eve
 ntbrite.com\nwww.Impalasf.com\nalchemetric.com\n\nDoors at 8pm, Show s
 tarts at 11PM SHARP !!!!\n\nIMPALA LOUNGE\n501 Broadway st SF CA\n\nFo
 r more information visit https://trueskool.com/events/wu-tangs-inspect
 ah-deck-masta
DTSTART;TZID=America/Los_Angeles:20101119T200000
DTEND;TZID=America/Los_Angeles:20101120T020000
CATEGORIES:san, francisco
LOCATION:Impala, San Francisco, CA
WEBSITE:http://wutangimpala.eventbrite.com
URL:http://wutangimpala.eventbrite.com
CONTACT:
ORGANIZER;CN=Alchemetric:https://trueskool.com/profile/Alchemetric
ATTACH;FMTTYPE="image/jpeg":http://storage.ning.com/topology/rest/1.0/
 file/get/2247886150?profile=original
ATTENDEE;ROLE=REQ-PARTICIPANT;PARTSTAT=ACCEPTED;RSVP=TRUE;CN=Alchemetr
 ic:https://trueskool.com/profile/Alchemetric
END:VEVENT
END:VCALENDAR
