BEGIN:VCALENDAR
PRODID:NingEventWidget-v1
VERSION:2.0
METHOD:PUBLISH
BEGIN:VTIMEZONE
TZID:America/Los_Angeles
X-LIC-LOCATION:America/Los_Angeles
BEGIN:DAYLIGHT
TZOFFSETFROM:-0800
TZOFFSETTO:-0700
TZNAME:PDT
DTSTART:19700308T020000
RRULE:FREQ=YEARLY;BYMONTH=3;BYDAY=2SU
END:DAYLIGHT
BEGIN:STANDARD
TZOFFSETFROM:-0700
TZOFFSETTO:-0800
TZNAME:PST
DTSTART:19701101T020000
RRULE:FREQ=YEARLY;BYMONTH=11;BYDAY=1SU
END:STANDARD
END:VTIMEZONE
BEGIN:VEVENT
UID:1464587:Event:439792
DTSTAMP:20260421T020754Z
SUMMARY:Writers With Drinks with Jonathan Lethem and Molly Antopol
DESCRIPTION:San Francisco's most reliable source of both words and liq
 uor is featuring its most insane all-star lineup ever.   When: Saturda
 y, Oct. 11, from 7:30 PM to 9:30 PM, doors open 6:30 PM Who: Jonathan 
 Lethem, Molly Antopol, NoViolet Bulawayo, Natasha Moni, David Gborie a
 nd Mallory Ortberg! How much: $5 to $20, all proceeds benefit the CSC 
 Where: The Make Out Room, 3225 22nd. St., San Francisco  About the rea
 ders/performers:  Jonathan Lethem's latest novel is Dissident Gardens.
  He's also the author of Chronic City, You Don't Love Me Yet, The Fort
 ress of Solitude, Motherless Brooklyn, Girl in Landscape, As She Climb
 ed Across the Table, Amnesia Moon and Gun With Occasional Music. Mothe
 rless Brooklyn received the National Book Critics Circle award, and he
  received a MacArthur Fellowship in 2005. His story collections includ
 e How We Got Insipid, Men and Cartoons and The Wall of the Sky, The Wa
 ll of the Eye. He also wrote the Omega the Unknown comic, and wrote th
 e nonfiction books The Disappointment Artist, Fear of Music, They Live
  and The Ecstasy of Influence.  Molly Antopol's debut story collection
  The UnAmericans was just longlisted for the National Book Award. The 
 recipient of a 5 Under 35 award from the National Book Foundation, her
  writing has appeared or is forthcoming on NPR’s This American Life 
 and All Things Considered, online at The New Yorker, and in many perio
 dicals, including The New Republic, The New York Times, The Wall Stree
 t Journal, San Francisco Chronicle, Elle, Oxford American, One Story, 
 Ecotone and elsewhere.  NoViolet Bulawayo is the author of We Need New
  Names (May 2013) which has been recognized with the LA Times Book Pri
 ze Art Seidenbaum Award for First Fiction, the Pen/Hemingway Award, th
 e Etisalat Prize for Literature, the Barnes and Noble Discover Award (
 second place), and the National Book Foundation “5 Under 35” Ficti
 on Selection. We Need New Names was shortlisted for the Man Booker Pri
 ze and the Guardian First Book Award, and selected to the New York Tim
 es Notable Books of 2013 list, the Barnes and Noble Discover Great New
  Writers list, and others. NoViolet’s story “Hitting Budapest” w
 on the 2011 Caine Prize for African Writing.  Natasha Moni's debut poe
 try collection is The Cardiologist's Daughter. Her poetry, fiction, es
 says, and reviews have been published in journals including: DIAGRAM, 
 Verse, Indiana Review, Fourteen Hills, Rattle, and Defenestration.  Da
 vid Gborie is a member of Sylvan Productions and the Business. As a co
 median he’s appeared at The Bridgetown Comedy Festival, SF Indie Fes
 t, and Denver’s Too Much Funstival, as well as the SF Punchline, The
  Denver Comedy Works, and other impressive venues.   Mallory Ortberg i
 s the founder of The Toast. She's also written for TheHairpin, Eco Sal
 on, Slacktory and Gawker.   About Writers With Drinks:  Writers With D
 rinks has won numerous \"Best ofs\" from local newspapers, and has bee
 n mentioned in 7x7, Spin Magazine and one of Armistead Maupin's Tales 
 of the City novels. The spoken word \"variety show\" mixes genres to r
 aise money for local causes. The award-winning show includes poetry, s
 tand-up comedy, science fiction, fantasy, romance, mystery, literary f
 iction, erotica, memoir, zines and blogs in a freewheeling format\n\nF
 or more information visit https://trueskool.com/events/writers-with-dr
 inks-with-jonathan-lethem-and-molly-antopol
DTSTART;TZID=America/Los_Angeles:20141011T193000
DTEND;TZID=America/Los_Angeles:20141011T213000
CATEGORIES:san, francisco, bay, area, sf, california
LOCATION:The Make Out Room, San Francisco, CA
WEBSITE:http://www.makeoutroom.com
URL:http://www.makeoutroom.com
CONTACT:415-647-2888
ORGANIZER;CN="Charlie Jane Anders":https://trueskool.com/profile/Charl
 ieJaneAnders
ATTACH;FMTTYPE="image/jpeg":
ATTENDEE;ROLE=REQ-PARTICIPANT;PARTSTAT=ACCEPTED;RSVP=TRUE;CN="Charlie 
 Jane Anders":https://trueskool.com/profile/CharlieJaneAnders
END:VEVENT
END:VCALENDAR
