BEGIN:VCALENDAR
PRODID:NingEventWidget-v1
VERSION:2.0
METHOD:PUBLISH
BEGIN:VTIMEZONE
TZID:America/Los_Angeles
X-LIC-LOCATION:America/Los_Angeles
BEGIN:DAYLIGHT
TZOFFSETFROM:-0800
TZOFFSETTO:-0700
TZNAME:PDT
DTSTART:19700308T020000
RRULE:FREQ=YEARLY;BYMONTH=3;BYDAY=2SU
END:DAYLIGHT
BEGIN:STANDARD
TZOFFSETFROM:-0700
TZOFFSETTO:-0800
TZNAME:PST
DTSTART:19701101T020000
RRULE:FREQ=YEARLY;BYMONTH=11;BYDAY=1SU
END:STANDARD
END:VTIMEZONE
BEGIN:VEVENT
UID:1464587:Event:233164
DTSTAMP:20260421T054030Z
SUMMARY:Writers With Drinks with Hannu Rajaniemi and Natalie Serber
DESCRIPTION:Writers With Drinks sends you back to school with science 
 fiction, poetry and boxing!  When: Saturday, August 10, 2013, 7:30 to 
 9:30 PM, doors open at 6:30 PM Who: Hannu Rajaniemi, Natalie Serber, A
 imee Phan, Matt Shears, Mike the Boxer and Susan Calvillo Where: The M
 ake Out Room, 3225 22nd. St., San Francisco How much: $5 to $10 slidin
 g scale, all proceeds benefit the CSC  About the writers/readers:  Han
 nu Rajaniemi is the author of The Quantum Thief, The Fractal Prince an
 d the forthcoming The Causal Angel. The Quantum Thief came in third pl
 ace in the John W. Campbell Award for Best Science Fiction Novel. He a
 lso published a story collection, Words of Birth and Death.  Natalie S
 erber is the author of Shout Her Lovely Name, and her work has appeare
 d in Knowing Pains: Women on Love, Sex and Work in our 40s, and Air Fa
 re: Stories, Essays and Poems on Flight. She's working on a novel.  Ai
 mee Phan is the author of The Reeducation of Cherry Truong. Her first 
 book We Should Never Meet was named a Notable Book by the Kiryama Priz
 e in fiction and a finalist for the 2005 Asian American Literary Award
 s. Her writing has appeared in The New York Times, USA Today, Guernica
 , The Rumpus, and The Oregonian.   Michael the Boxer runs \"the San Fr
 ancisco gym where the technorati go for a bloody good workout.\" He's 
 the author of Fear Into Fuel: Empower the Ageless Fighter Within, plus
  Boxing: The American Martial Art and Boxing Advanced Tactics and Stra
 tegies. He's also a barber, who offers haircuts in his boxing gym.  Ma
 tt Shears is the author of 10,000 Wallpapers (Brooklyn Arts Press 2011
 ) and Where a road had been (BlazeVOX 2010). His poetry has been featu
 red in The Boston Review, Colorado Review, Denver Quarterly, Volt, Not
 re Dame Review, and Cutbank, among other journals.  Susan Calvillo blo
 gs at Potential Cadavers. She's an MFA student and her poetry has appe
 ared in New American Writing and Nameless Magazine.  About Writers Wit
 h Drinks:  Writers With Drinks won \"Best Literary Night\" from the SF
  Bay Guardian readers' poll six years in a row and was named \"Best Li
 terary Drinking\" and \"Best Literary Hour\" by the SF Weekly. And it 
 was namechecked in Armistead Maupin's latest Tales of the City novel. 
 The spoken word \"variety show\" mixes genres to raise money for local
  worthy causes. The award-winning show includes poetry, stand-up comed
 y, science fiction, fantasy, romance, mystery, literary fiction, eroti
 ca, memoir, zines and blogs in a freewheeling format.\n\nFor more info
 rmation visit https://trueskool.com/events/writers-with-drinks-with-ha
 nnu-rajaniemi-and-natalie-serber
DTSTART;TZID=America/Los_Angeles:20130810T193000
DTEND;TZID=America/Los_Angeles:20130810T213000
CATEGORIES:san, francisco, ca
LOCATION:The Make Out Room, San Francisco
WEBSITE:http://www.makeoutroom.com
URL:http://www.makeoutroom.com
CONTACT:415-647-2888
ORGANIZER;CN="Charlie Jane Anders":https://trueskool.com/profile/Charl
 ieJaneAnders
ATTACH;FMTTYPE="image/jpeg":
ATTENDEE;ROLE=REQ-PARTICIPANT;PARTSTAT=ACCEPTED;RSVP=TRUE;CN="Charlie 
 Jane Anders":https://trueskool.com/profile/CharlieJaneAnders
END:VEVENT
END:VCALENDAR
