BEGIN:VCALENDAR
PRODID:NingEventWidget-v1
VERSION:2.0
METHOD:PUBLISH
BEGIN:VTIMEZONE
TZID:America/Los_Angeles
X-LIC-LOCATION:America/Los_Angeles
BEGIN:DAYLIGHT
TZOFFSETFROM:-0800
TZOFFSETTO:-0700
TZNAME:PDT
DTSTART:19700308T020000
RRULE:FREQ=YEARLY;BYMONTH=3;BYDAY=2SU
END:DAYLIGHT
BEGIN:STANDARD
TZOFFSETFROM:-0700
TZOFFSETTO:-0800
TZNAME:PST
DTSTART:19701101T020000
RRULE:FREQ=YEARLY;BYMONTH=11;BYDAY=1SU
END:STANDARD
END:VTIMEZONE
BEGIN:VEVENT
UID:1464587:Event:679247
DTSTAMP:20260421T083401Z
SUMMARY:Writers with Drinks: Rachel Khong and Achy Obejas!
DESCRIPTION:Rachel Khong, author of Goodbye, Vitamin, reads at San Fra
 ncisco's longest-running literary night. She's joined by Achy Obejas, 
 author of PEN/Faulkner finalist The Tower of the Antilles, and Kristin
  Chen, author of Bury What We Cannot Take. Plus veteran activist L.A K
 auffman (How to Read a Protest), fantasy author Tara Sim (Timekeeper) 
 and queer literary author tammy lynne stoner (Sugar Land). Hosted by C
 harlie Jane Anders.\n\nFor more information visit https://trueskool.co
 m/events/writers-with-drinks-rachel-khong-and-achy-obejas
DTSTART;TZID=America/Los_Angeles:20181110T193000
DTEND;TZID=America/Los_Angeles:20181110T213000
CATEGORIES:"san francisco", "bay area", sf, california
LOCATION:The Make Out Room, San Francisco, CA
WEBSITE:http://makeoutroom.com
URL:http://makeoutroom.com
CONTACT:415-647-2888
ORGANIZER;CN="Charlie Jane Anders":https://trueskool.com/profile/Charl
 ieJaneAnders
ATTACH;FMTTYPE="image/jpeg":http://storage.ning.com/topology/rest/1.0/
 file/get/2248010444?profile=original
ATTENDEE;ROLE=REQ-PARTICIPANT;PARTSTAT=ACCEPTED;RSVP=TRUE;CN="Charlie 
 Jane Anders":https://trueskool.com/profile/CharlieJaneAnders
END:VEVENT
END:VCALENDAR
