BEGIN:VCALENDAR
PRODID:NingEventWidget-v1
VERSION:2.0
METHOD:PUBLISH
BEGIN:VTIMEZONE
TZID:America/Los_Angeles
X-LIC-LOCATION:America/Los_Angeles
BEGIN:DAYLIGHT
TZOFFSETFROM:-0800
TZOFFSETTO:-0700
TZNAME:PDT
DTSTART:19700308T020000
RRULE:FREQ=YEARLY;BYMONTH=3;BYDAY=2SU
END:DAYLIGHT
BEGIN:STANDARD
TZOFFSETFROM:-0700
TZOFFSETTO:-0800
TZNAME:PST
DTSTART:19701101T020000
RRULE:FREQ=YEARLY;BYMONTH=11;BYDAY=1SU
END:STANDARD
END:VTIMEZONE
BEGIN:VEVENT
UID:1464587:Event:672705
DTSTAMP:20260421T151210Z
SUMMARY:Writers With Drinks featuring Jasmine Guillory and Ellen Klage
 s
DESCRIPTION:This could be the most dangerous Writers With Drinks yet. 
 Shape-shifting poetry, challenging histories, and wild new ideas --- n
 othing will ever be the same again!  When: Saturday, Feb. 10 from 7:30
  PM to 9:30 PM, doors open 6:30 PM Who: Stephanie Burt, Angela Pneuman
 , Ellen Klages, Molly Sauter and Jasmine Guillory! How much: $5 to $20
 , all proceeds benefit the Center for Sex & Culture Where: The Make Ou
 t Room, 3225 22nd. St., San Francisco, CA  About the readers/performer
 s:  Stephanie Burt, who has published under the name Stephen, is the a
 uthor of the poetry collections Advice from the Lights, Belmont , and 
 Parallel Play. Also a literary critic, Burt is the author of The Poem 
 Is You; Close Calls with Nonsense, which was a finalist for the Nation
 al Book Critics Circle Award; The Art of the Sonnet; and Popular Music
 , among others. Burt is currently a professor of English at Harvard Un
 iversity.  Ellen Klages is the author of Passing Strange and the forth
 coming Out of Left Field. She's also the author of two acclaimed histo
 rical novels: The Green Glass Sea, which won the Scott O’Dell Award,
  and the New Mexico Book Award; and White Sands, Red Menace, which won
  the California and New Mexico Book awards. Her story, “Basement Mag
 ic,” won a Nebula Award and “Wakulla Springs,” co-authored with 
 Andy Duncan, was nominated for the Nebula, Hugo, and Locus awards, and
  won the World Fantasy Award for Best Novella.   Angela Pneuman is the
  author of a book of short stories, Home Remedies, and a novel, Lay It
  on My Heart. Her work has appeared in Best American Short Stories (20
 12 & 2004), Ploughshares, Los Angeles Review, Iowa Review, Virginia Qu
 arterly Review, New England Review, Glimmertrain and many other litera
 ry magazines. Angela has received the Stegner Fellowship from Stanford
 , the Presidential Fellowship from SUNY Albany, and the inaugural Alic
 e Hoffman Prize for short fiction from Ploughshares.  Molly Sauter is 
 a PhD candidate in Communication Studies at McGill University in Montr
 eal and the author of The Coming Swarm: DDoS Actions, Hacktivism, and 
 Civil Disobedience on the Internet. They write about technology, cultu
 re, and politics, and are currently at work on a book about disruption
  innovation and venture capital. Their work has been published in The 
 Atlantic, the Journal of Communication, the Case Western Reserve Law R
 eview, Real Life Mag, Ethnography Matters, HiLow Brow, io9, Vice, The 
 Outline, the National Post, the Globe and Mail, the Los Angeles Times,
  the American Behavioral Scientist, and the MIT Technology Review, and
  in collected volumes published by MIT Press and Peter Lang. They have
  frequently appeared as an expert on technology, culture, and politics
  on the CBC, NPR, the BBC, PRI, American Public Media, and other inter
 national outlets. Their research has been featured by Popular Mechanic
 s, BoingBoing, Slate, Der Spiegel, and the Christian Science Monitor. 
 They reside in Toronto and live on the internet at oddletters.com.  Ja
 smine Guillory is a lawyer and a writer. She is a Bay Area native who 
 has towering stacks of books in her living room, a cake recipe for eve
 ry occasion, and upwards of 50 lipsticks. The Wedding Date is her firs
 t novel.\n\nFor more information visit https://trueskool.com/events/wr
 iters-with-drinks-featuring-jasmine-guillory-and-ellen-klages
DTSTART;TZID=America/Los_Angeles:20180210T193000
DTEND;TZID=America/Los_Angeles:20180210T213000
CATEGORIES:"san francisco", "bay area", sf, california
LOCATION:San Francisco, CA
WEBSITE:http://makeoutroom.com
URL:http://makeoutroom.com
CONTACT:415-647-2888
ORGANIZER;CN="Charlie Jane Anders":https://trueskool.com/profile/Charl
 ieJaneAnders
ATTACH;FMTTYPE="image/jpeg":http://storage.ning.com/topology/rest/1.0/
 file/get/2248004659?profile=original
ATTENDEE;ROLE=REQ-PARTICIPANT;PARTSTAT=ACCEPTED;RSVP=TRUE;CN="Charlie 
 Jane Anders":https://trueskool.com/profile/CharlieJaneAnders
END:VEVENT
END:VCALENDAR
