BEGIN:VCALENDAR
PRODID:NingEventWidget-v1
VERSION:2.0
METHOD:PUBLISH
BEGIN:VTIMEZONE
TZID:America/Los_Angeles
X-LIC-LOCATION:America/Los_Angeles
BEGIN:DAYLIGHT
TZOFFSETFROM:-0800
TZOFFSETTO:-0700
TZNAME:PDT
DTSTART:19700308T020000
RRULE:FREQ=YEARLY;BYMONTH=3;BYDAY=2SU
END:DAYLIGHT
BEGIN:STANDARD
TZOFFSETFROM:-0700
TZOFFSETTO:-0800
TZNAME:PST
DTSTART:19701101T020000
RRULE:FREQ=YEARLY;BYMONTH=11;BYDAY=1SU
END:STANDARD
END:VTIMEZONE
BEGIN:VEVENT
UID:1464587:Event:680388
DTSTAMP:20260421T093759Z
SUMMARY:Writers With Drinks: Alan Chazaro and Shawn Wen!
DESCRIPTION:This American Life contributor Shawn Wen, author of A Twen
 ty Minute Silence, Followed by Applause: An Essay, reads at San Franci
 sco's longest-running spoken word event. She's joined by Jennifer S. C
 heng, author of Moon: Letters, Maps, Poems. Plus Jaymee Goh (The Last 
 Cheng Beng Gift), Bryan Thao Worra (Outsiders Within), May-Lee Chai (U
 seful Phrases for Immigrants) and Alan Chazaro (Iron Horse Review). Ho
 sted by Charlie Jane Anders.\n\nFor more information visit https://tru
 eskool.com/events/writers-with-drinks-alan-chazaro-and-shawn-wen
DTSTART;TZID=America/Los_Angeles:20181208T193000
DTEND;TZID=America/Los_Angeles:20181208T213000
CATEGORIES:"san francisco", "bay area", sf, california
LOCATION:Make Out Room, San Francisco, CA
WEBSITE:http://makeoutroom.com
URL:http://makeoutroom.com
CONTACT:415-647-2888
ORGANIZER;CN="Charlie Jane Anders":https://trueskool.com/profile/Charl
 ieJaneAnders
ATTACH;FMTTYPE="image/jpeg":http://storage.ning.com/topology/rest/1.0/
 file/get/2248013677?profile=original
ATTENDEE;ROLE=REQ-PARTICIPANT;PARTSTAT=ACCEPTED;RSVP=TRUE;CN="Charlie 
 Jane Anders":https://trueskool.com/profile/CharlieJaneAnders
END:VEVENT
END:VCALENDAR
