BEGIN:VCALENDAR
PRODID:NingEventWidget-v1
VERSION:2.0
METHOD:PUBLISH
BEGIN:VTIMEZONE
TZID:America/Los_Angeles
X-LIC-LOCATION:America/Los_Angeles
BEGIN:DAYLIGHT
TZOFFSETFROM:-0800
TZOFFSETTO:-0700
TZNAME:PDT
DTSTART:19700308T020000
RRULE:FREQ=YEARLY;BYMONTH=3;BYDAY=2SU
END:DAYLIGHT
BEGIN:STANDARD
TZOFFSETFROM:-0700
TZOFFSETTO:-0800
TZNAME:PST
DTSTART:19701101T020000
RRULE:FREQ=YEARLY;BYMONTH=11;BYDAY=1SU
END:STANDARD
END:VTIMEZONE
BEGIN:VEVENT
UID:1464587:Event:63920
DTSTAMP:20260420T210332Z
SUMMARY:World Carnaval @ the Den - OFFICIAL Art & Soul Festival Afterp
 arty!
DESCRIPTION:CaribelinQ presents......\n\nWorld Carnaval @ the Den™\n
 Saturday August 21st 2010\nOFFICIAL Art & Soul After-Party!\n\nWorld M
 usic, Drumming & Dancing!\nSpecial Guest DJ IWAH - direct from Washing
 ton DC!!!!\n\n@ the Den at the FOX Theater\n1807 Telegraph Ave. Uptown
  Oakland 510.451.6100\nDoors open @ 6:00 - Carnaval Happy Hour!\n\nDjs
  spinning World Dance music from Soul to Soukous - Samba to Salsa\n\nF
 ree SambaFunk! Lessons w/ King Theo\nSamba Performances by SupremeQuee
 n Carmen & the Queens of SambaFunk!\n21 ID / Mature Audiences Invited 
 / $7 before 11pm / Free B4 9pm\n\nFor more information: info@caribelin
 q.com\n510.451.6100\n\nFor more information visit https://trueskool.co
 m/events/world-carnaval-the-den
DTSTART;TZID=America/Los_Angeles:20100821T210000
DTEND;TZID=America/Los_Angeles:20100822T020000
CATEGORIES:"r&b", reggae, hip, hop, soukous, samba, salsa
LOCATION:The Den, Oakland
WEBSITE:http://www.caribelinq.com
URL:http://www.caribelinq.com
CONTACT:
ORGANIZER;CN="DJ HENROC":https://trueskool.com/profile/DJHENROC
ATTACH;FMTTYPE="image/jpeg":http://storage.ning.com/topology/rest/1.0/
 file/get/2247882726?profile=original
ATTENDEE;ROLE=REQ-PARTICIPANT;PARTSTAT=ACCEPTED;RSVP=TRUE;CN="DJ HENRO
 C":https://trueskool.com/profile/DJHENROC
END:VEVENT
END:VCALENDAR
