BEGIN:VCALENDAR
PRODID:NingEventWidget-v1
VERSION:2.0
METHOD:PUBLISH
BEGIN:VTIMEZONE
TZID:America/Los_Angeles
X-LIC-LOCATION:America/Los_Angeles
BEGIN:DAYLIGHT
TZOFFSETFROM:-0800
TZOFFSETTO:-0700
TZNAME:PDT
DTSTART:19700308T020000
RRULE:FREQ=YEARLY;BYMONTH=3;BYDAY=2SU
END:DAYLIGHT
BEGIN:STANDARD
TZOFFSETFROM:-0700
TZOFFSETTO:-0800
TZNAME:PST
DTSTART:19701101T020000
RRULE:FREQ=YEARLY;BYMONTH=11;BYDAY=1SU
END:STANDARD
END:VTIMEZONE
BEGIN:VEVENT
UID:1464587:Event:639270
DTSTAMP:20260421T065445Z
SUMMARY:WONDER-FULL SF 12: A TRIBUTE TO THE WONDERS OF STEVIE
DESCRIPTION:Saturday, December 12th, 2015 Massive Selector, fresco & K
 eistar present WONDER-FULL SF 12: A TRIBUTE TO THE WONDERS OF STEVIE @
  Mezzanine, 444 Jessie Street, San Francisco 21+ | 9pm-4am | General $
 25 Buy Tickets: wonderfullsf.com On Saturday, December 12th, 2015, the
  Bay Area celebrates a winter tradition... fresco, Massive Selector & 
 Keistar Productions are proud to present WONDER-Full SF 12: A TRIBUTE 
 TO THE WONDERS OF STEVIE at Mezzanine (444 Jessie St, SF). Globetrotti
 ng superstar disc jockey, DJ SPINNA, headlines WONDER-Full: a dance pa
 rty of epic proportions dedicated to Stevie Wonder’s essential compo
 sitions, covers, and goodies. In 2003, WONDER-Full debuted in San Fran
 cisco. In its 12-year run, Stevie fans from across the Bay Area and be
 yond have embraced the event with beautiful energy, diversity and love
  that has made WONDER-Full SF one of the most anticipated events of th
 e year! Please join us for a very special evening celebrating the musi
 cal genius of Stevie Wonder... Starring DJ SPINNA (NYC) Along with HAK
 OBO KING MOST PROOF Hosted by TOP TEN SOCIAL Bottle Service: 415.625.8
 880 or info@mezzaninesf.com #wonderfullsf\n\nFor more information visi
 t https://trueskool.com/events/wonder-full-sf-12-a-tribute-to-the-wond
 ers-of-stevie
DTSTART;TZID=America/Los_Angeles:20151212T210000
DTEND;TZID=America/Los_Angeles:20151213T040000
CATEGORIES:wonderfull, stevie, wonder, dj, spinna, funk, soul, hip-hop
 , sf, oakland, san, jose, bay, area, wonderfullsf
LOCATION:Mezzanine, San Francisco
WEBSITE:http://wonderfullsf.com
URL:http://wonderfullsf.com
CONTACT:
ORGANIZER:massive Selector, fresco & Keistar Productions
ATTACH;FMTTYPE="image/jpeg":http://storage.ning.com/topology/rest/1.0/
 file/get/2247981279?profile=original
ATTENDEE;ROLE=REQ-PARTICIPANT;PARTSTAT=ACCEPTED;RSVP=TRUE;CN=marky:htt
 ps://trueskool.com/profile/marky
END:VEVENT
END:VCALENDAR
