BEGIN:VCALENDAR
PRODID:NingEventWidget-v1
VERSION:2.0
METHOD:PUBLISH
BEGIN:VTIMEZONE
TZID:America/Los_Angeles
X-LIC-LOCATION:America/Los_Angeles
BEGIN:DAYLIGHT
TZOFFSETFROM:-0800
TZOFFSETTO:-0700
TZNAME:PDT
DTSTART:19700308T020000
RRULE:FREQ=YEARLY;BYMONTH=3;BYDAY=2SU
END:DAYLIGHT
BEGIN:STANDARD
TZOFFSETFROM:-0700
TZOFFSETTO:-0800
TZNAME:PST
DTSTART:19701101T020000
RRULE:FREQ=YEARLY;BYMONTH=11;BYDAY=1SU
END:STANDARD
END:VTIMEZONE
BEGIN:VEVENT
UID:1464587:Event:661834
DTSTAMP:20260422T081439Z
SUMMARY:Wolff & Clark Expedition - SF Jazz
DESCRIPTION:\n\nFor more information visit https://trueskool.com/event
 s/wolff-clark-expedition-sf-jazz
DTSTART;TZID=America/Los_Angeles:20170506T190000
DTEND;TZID=America/Los_Angeles:20170506T201500
CATEGORIES:performance, music, nightlife, jazz, swing, relaxed, elegan
 t, funky, intellectual, "r&b"
LOCATION:SFJAZZ
WEBSITE:https://www.scenesquid.com/events/wolff-clark-expedition-sf-ja
 zz/59077e416d13448ce4000012?referring_publisher=557fcea280852998570000
 0d
URL:https://www.scenesquid.com/events/wolff-clark-expedition-sf-jazz/5
 9077e416d13448ce4000012?referring_publisher=557fcea2808529985700000d
CONTACT:212-414-2824
ORGANIZER:Marketechnique LLC
ATTACH;FMTTYPE="image/jpeg":
ATTENDEE;ROLE=REQ-PARTICIPANT;PARTSTAT=ACCEPTED;RSVP=TRUE;CN="SceneSqu
 id SF Bay":https://trueskool.com/profile/SceneSquidSFBay
END:VEVENT
END:VCALENDAR
