BEGIN:VCALENDAR
PRODID:NingEventWidget-v1
VERSION:2.0
METHOD:PUBLISH
BEGIN:VTIMEZONE
TZID:America/Los_Angeles
X-LIC-LOCATION:America/Los_Angeles
BEGIN:DAYLIGHT
TZOFFSETFROM:-0800
TZOFFSETTO:-0700
TZNAME:PDT
DTSTART:19700308T020000
RRULE:FREQ=YEARLY;BYMONTH=3;BYDAY=2SU
END:DAYLIGHT
BEGIN:STANDARD
TZOFFSETFROM:-0700
TZOFFSETTO:-0800
TZNAME:PST
DTSTART:19701101T020000
RRULE:FREQ=YEARLY;BYMONTH=11;BYDAY=1SU
END:STANDARD
END:VTIMEZONE
BEGIN:VEVENT
UID:1464587:Event:832775
DTSTAMP:20260423T193022Z
SUMMARY:WINTICKETS Spafford (Two Nights) 10/30-31 Sweetwater Music Hal
 l 8PM $37
DESCRIPTION:WINTICKETS Spafford (Two Nights) 10/30-31 Sweetwater Music
  Hall 8PM $37 - Spafford is known for their astonishing improvisation
 al ability and off-the-cuff extended jams, Spafford paints a picture i
 n real-time each night with a musical palette known only to each other
 .   TO WIN: Share this post on social media and send an email to phi
 lran@comcast.net (please specify date desired 10/30 or 10/31) \n\nFor
  more information visit https://trueskool.com/events/wintickets-spaffo
 rd-two-nights-10-30-31-sweetwater-music-hall-8pm
DTSTART;TZID=America/Los_Angeles:20241030T200000
DTEND;TZID=America/Los_Angeles:20241031T000000
CATEGORIES:mill, valley
LOCATION:Sweetwaterr Music Hall, Mill Valley, Ca.
WEBSITE:https://sweetwatermusichall.com/event/spafford-2/sweetwater-mu
 sic-hall/mill-valley-california/
URL:https://sweetwatermusichall.com/event/spafford-2/sweetwater-music-
 hall/mill-valley-california/
CONTACT:
ORGANIZER;CN="Phillip Ranelli":https://trueskool.com/profile/PhillipRa
 nelli
ATTACH;FMTTYPE="image/jpeg":https://storage.ning.com/topology/rest/1.0
 /file/get/13044486072?profile=original
ATTENDEE;ROLE=REQ-PARTICIPANT;PARTSTAT=ACCEPTED;RSVP=TRUE;CN="Phillip 
 Ranelli":https://trueskool.com/profile/PhillipRanelli
END:VEVENT
END:VCALENDAR
