BEGIN:VCALENDAR
PRODID:NingEventWidget-v1
VERSION:2.0
METHOD:PUBLISH
BEGIN:VTIMEZONE
TZID:America/Los_Angeles
X-LIC-LOCATION:America/Los_Angeles
BEGIN:DAYLIGHT
TZOFFSETFROM:-0800
TZOFFSETTO:-0700
TZNAME:PDT
DTSTART:19700308T020000
RRULE:FREQ=YEARLY;BYMONTH=3;BYDAY=2SU
END:DAYLIGHT
BEGIN:STANDARD
TZOFFSETFROM:-0700
TZOFFSETTO:-0800
TZNAME:PST
DTSTART:19701101T020000
RRULE:FREQ=YEARLY;BYMONTH=11;BYDAY=1SU
END:STANDARD
END:VTIMEZONE
BEGIN:VEVENT
UID:1464587:Event:836577
DTSTAMP:20260423T192019Z
SUMMARY:WINTICKETS Las Cafeteras @ Sweetwater Music Hall 5/3/2025
DESCRIPTION:Las Cafeteras have taken the music scene by storm with th
 eir infectious live performances and have crossed many genres and bord
 ers along the way. Their electric sound & energy has taken them around
  the world playing shows from Bonnaroo to the Hollywood Bowl, WOMAD Ne
 w Zealand to Montreal Jazz, & beyond!   Born and raised East of the 
 Los Angeles River, Las Cafeteras are remixing roots music as modern da
 y troubadours.  They are a sonic explosion of Afro-Mexican rhythms, e
 lectronic beats and powerful rhymes that document stories of a communi
 ty seeking to ‘build a world where many world fit.’ From Afro-Mex
 ican to Americana, from Soul to Son Jarocho, from Roots to Rock and Hi
 p Hop, Las Cafeteras take folk music to the future & honor the past b
 y using electrifying traditional instrumentation like the 8 string Jar
 ana, 4 string Requinto, Quijada (donkey jawbone) and Tarima (a wooden 
 platform). Las Cafeteras sing in 5 distinct languages, English, Spanis
 h, Spanglish, Love and Justice … and they believe everyone understan
 ds at least one of those languages. TO WINTICKETS SHARE THIS EVENT ON 
 SOCIAL MEDIA (FB, Insta, X, etc.)  & EMAIL: philran@comcast.net to en
 ter contest\n\nFor more information visit https://trueskool.com/events
 /wintickets-las-cafeteras-sweetwater-music-hall-5-3-2025
DTSTART;TZID=America/Los_Angeles:20250503T200000
DTEND;TZID=America/Los_Angeles:20250503T233000
CATEGORIES:sweetwater, music, hall, mill, valley, ca
LOCATION:Sweetwater Music Hall, Mill Valley, Ca
WEBSITE:https://sweetwatermusichall.org/event/las-cafeteras/sweetwater
 -music-hall/mill-valley-california/
URL:https://sweetwatermusichall.org/event/las-cafeteras/sweetwater-mus
 ic-hall/mill-valley-california/
CONTACT:
ORGANIZER;CN="Phillip Ranelli":https://trueskool.com/profile/PhillipRa
 nelli
ATTACH;FMTTYPE="image/jpeg":https://storage.ning.com/topology/rest/1.0
 /file/get/13537288066?profile=original
ATTENDEE;ROLE=REQ-PARTICIPANT;PARTSTAT=ACCEPTED;RSVP=TRUE;CN="Phillip 
 Ranelli":https://trueskool.com/profile/PhillipRanelli
END:VEVENT
END:VCALENDAR
