BEGIN:VCALENDAR
PRODID:NingEventWidget-v1
VERSION:2.0
METHOD:PUBLISH
BEGIN:VTIMEZONE
TZID:America/Los_Angeles
X-LIC-LOCATION:America/Los_Angeles
BEGIN:DAYLIGHT
TZOFFSETFROM:-0800
TZOFFSETTO:-0700
TZNAME:PDT
DTSTART:19700308T020000
RRULE:FREQ=YEARLY;BYMONTH=3;BYDAY=2SU
END:DAYLIGHT
BEGIN:STANDARD
TZOFFSETFROM:-0700
TZOFFSETTO:-0800
TZNAME:PST
DTSTART:19701101T020000
RRULE:FREQ=YEARLY;BYMONTH=11;BYDAY=1SU
END:STANDARD
END:VTIMEZONE
BEGIN:VEVENT
UID:1464587:Event:282743
DTSTAMP:20260421T212628Z
SUMMARY:Winter Dance Concert
DESCRIPTION:Dance-A-Vision opens up their stage to invite other Dance 
 Studios in the Bay Area to showcase their work. Come see many differen
 t styles of Dance all under one roof. Dance Hall,Jazz,Modern,Tap and m
 ore. \n\nFor more information visit https://trueskool.com/events/wint
 er-dance-concert-1
DTSTART;TZID=America/Los_Angeles:20131214T200000
DTEND;TZID=America/Los_Angeles:20131214T220000
CATEGORIES:downtown, oakland, ca, bay, area
LOCATION:Malonga Casquelourd Perfororming Arts Center
WEBSITE:http://Tickets at the Door
URL:http://Tickets at the Door
CONTACT:510-763-5180
ORGANIZER;CN="Dance-A-Vision Entertainment":https://trueskool.com/prof
 ile/DanceAVisionEntertainment
ATTACH;FMTTYPE="image/jpeg":
ATTENDEE;ROLE=REQ-PARTICIPANT;PARTSTAT=ACCEPTED;RSVP=TRUE;CN="Dance-A-
 Vision Entertainment":https://trueskool.com/profile/DanceAVisionEntert
 ainment
END:VEVENT
END:VCALENDAR
