BEGIN:VCALENDAR
PRODID:NingEventWidget-v1
VERSION:2.0
METHOD:PUBLISH
BEGIN:VTIMEZONE
TZID:America/Los_Angeles
X-LIC-LOCATION:America/Los_Angeles
BEGIN:DAYLIGHT
TZOFFSETFROM:-0800
TZOFFSETTO:-0700
TZNAME:PDT
DTSTART:19700308T020000
RRULE:FREQ=YEARLY;BYMONTH=3;BYDAY=2SU
END:DAYLIGHT
BEGIN:STANDARD
TZOFFSETFROM:-0700
TZOFFSETTO:-0800
TZNAME:PST
DTSTART:19701101T020000
RRULE:FREQ=YEARLY;BYMONTH=11;BYDAY=1SU
END:STANDARD
END:VTIMEZONE
BEGIN:VEVENT
UID:1464587:Event:66541
DTSTAMP:20260420T180908Z
SUMMARY:Wings and Teeth Tour w/ Doomtree + Rec-League at Slim's on Fri
 . Nov. 12 - all ages!
DESCRIPTION:Doomtree's Wings and Teeth Tour is the first tour to featu
 re every member of the Doomtree crew. Over three hours of music, solo 
 performances and and an all crew set to end the night!\n\nDoomtree is 
 a record label. Doomtree is a rap crew. Doomtree is a family. Over the
  past five years Doomtree has become one of the most highly regarded h
 ip-hop collectives in the Midwest, thanks to their innovative recordin
 gs, explosive live shows, and tireless work ethic. By combining the bl
 ueprint of hip hop with the DIY ethos of punk and a slew of disparate 
 artistic and musical influences, Doomtree has won the favor of a broad
  range of audiences. They are as likely to find fans at indie rock sho
 ws as they are at rap shows or basement dance parties. In the past sev
 eral years the collective has grown to include the lyrical and product
 ion talents of more than a dozen core members. The members of Doomtree
  come from a wide variety of backgrounds and musical interests, but jo
 in together to create some of the most forward-thinking beats and rhym
 es this side of 1987.\n\nFor more information visit https://trueskool.
 com/events/wings-and-teeth-tour-w
DTSTART;TZID=America/Los_Angeles:20101112T210000
DTEND;TZID=America/Los_Angeles:20101112T233000
CATEGORIES:san, francisco, ca
LOCATION:Slim's, San Francisco, CA
WEBSITE:http://www.slims-sf.com
URL:http://www.slims-sf.com
CONTACT:(415) 255-0333
ORGANIZER;CN=Tracey:https://trueskool.com/profile/Tracey
ATTACH;FMTTYPE="image/jpeg":http://storage.ning.com/topology/rest/1.0/
 file/get/2247884212?profile=original
ATTENDEE;ROLE=REQ-PARTICIPANT;PARTSTAT=ACCEPTED;RSVP=TRUE;CN=Tracey:ht
 tps://trueskool.com/profile/Tracey
END:VEVENT
END:VCALENDAR
