BEGIN:VCALENDAR
PRODID:NingEventWidget-v1
VERSION:2.0
METHOD:PUBLISH
BEGIN:VTIMEZONE
TZID:America/Los_Angeles
X-LIC-LOCATION:America/Los_Angeles
BEGIN:DAYLIGHT
TZOFFSETFROM:-0800
TZOFFSETTO:-0700
TZNAME:PDT
DTSTART:19700308T020000
RRULE:FREQ=YEARLY;BYMONTH=3;BYDAY=2SU
END:DAYLIGHT
BEGIN:STANDARD
TZOFFSETFROM:-0700
TZOFFSETTO:-0800
TZNAME:PST
DTSTART:19701101T020000
RRULE:FREQ=YEARLY;BYMONTH=11;BYDAY=1SU
END:STANDARD
END:VTIMEZONE
BEGIN:VEVENT
UID:1464587:Event:270874
DTSTAMP:20260421T070310Z
SUMMARY:#Wildlife YOUNG JEZZY LIVE Thanksgiving Night Nov 28th @ Cafe 
 Iguana Pines
DESCRIPTION:#WildLife\n#Legal\n@ Cafe Iguana Pines\n8358 Pines Blvd\nP
 embroke Pines, FL 33024\nThanksgiving Night \nThursday, Nov. 28th\nYo
 ung Jezzy\nLive!!!\nCelebrating\nThe Birthday\nof ZAY ENT\n\nFor more 
 information visit https://trueskool.com/events/wildlife-young-jezzy-li
 ve-thanksgiving-night-nov-28th-cafe
DTSTART;TZID=America/Los_Angeles:20131128T220000
DTEND;TZID=America/Los_Angeles:20131129T030000
CATEGORIES:young, jezzy
LOCATION:Cafe Iguana Pines, Pembroke pines
WEBSITE:
URL:
CONTACT:7863191477
ORGANIZER;CN="Rockers Island":https://trueskool.com/profile/RockersIsl
 and
ATTACH;FMTTYPE="image/jpeg":http://storage.ning.com/topology/rest/1.0/
 file/get/2247952688?profile=original
ATTENDEE;ROLE=REQ-PARTICIPANT;PARTSTAT=ACCEPTED;RSVP=TRUE;CN="Rockers 
 Island":https://trueskool.com/profile/RockersIsland
END:VEVENT
END:VCALENDAR
