BEGIN:VCALENDAR
PRODID:NingEventWidget-v1
VERSION:2.0
METHOD:PUBLISH
BEGIN:VTIMEZONE
TZID:America/Los_Angeles
X-LIC-LOCATION:America/Los_Angeles
BEGIN:DAYLIGHT
TZOFFSETFROM:-0800
TZOFFSETTO:-0700
TZNAME:PDT
DTSTART:19700308T020000
RRULE:FREQ=YEARLY;BYMONTH=3;BYDAY=2SU
END:DAYLIGHT
BEGIN:STANDARD
TZOFFSETFROM:-0700
TZOFFSETTO:-0800
TZNAME:PST
DTSTART:19701101T020000
RRULE:FREQ=YEARLY;BYMONTH=11;BYDAY=1SU
END:STANDARD
END:VTIMEZONE
BEGIN:VEVENT
UID:1464587:Event:68907
DTSTAMP:20260420T194553Z
SUMMARY:Wicked Mercies @ Yoshi's SF Tuesday Nov.2
DESCRIPTION:Wicked Mercies w/special guests VinCi & Her Groove Sector 
 @ Yoshi's SF 11/2\n\nhttp://www.youtube.com/watch?v=JNZZuQc19BA\n\nFor
  more information visit https://trueskool.com/events/wicked-mercies-yo
 shis-sf
DTSTART;TZID=America/Los_Angeles:20101102T203000
DTEND;TZID=America/Los_Angeles:20101102T233000
CATEGORIES:san, francisco
LOCATION:Yoshi's San Francisco
WEBSITE:
URL:
CONTACT:
ORGANIZER;CN="Wicked Mercies":https://trueskool.com/profile/WickedMerc
 ies
ATTACH;FMTTYPE="image/jpeg":http://storage.ning.com/topology/rest/1.0/
 file/get/2247886421?profile=original
ATTENDEE;ROLE=REQ-PARTICIPANT;PARTSTAT=ACCEPTED;RSVP=TRUE;CN="Wicked M
 ercies":https://trueskool.com/profile/WickedMercies
END:VEVENT
END:VCALENDAR
