BEGIN:VCALENDAR
PRODID:NingEventWidget-v1
VERSION:2.0
METHOD:PUBLISH
BEGIN:VTIMEZONE
TZID:America/Los_Angeles
X-LIC-LOCATION:America/Los_Angeles
BEGIN:DAYLIGHT
TZOFFSETFROM:-0800
TZOFFSETTO:-0700
TZNAME:PDT
DTSTART:19700308T020000
RRULE:FREQ=YEARLY;BYMONTH=3;BYDAY=2SU
END:DAYLIGHT
BEGIN:STANDARD
TZOFFSETFROM:-0700
TZOFFSETTO:-0800
TZNAME:PST
DTSTART:19701101T020000
RRULE:FREQ=YEARLY;BYMONTH=11;BYDAY=1SU
END:STANDARD
END:VTIMEZONE
BEGIN:VEVENT
UID:1464587:Event:673643
DTSTAMP:20260423T180009Z
SUMMARY:Whodini (WIN TICKETS)
DESCRIPTION:ENTER TO WIN A PAIR OF TICKETS. WINNER WILL BE DRAWN RANDO
 MLY AND ANNOUNCED 2 DAYS PRIOR TO EVENT.\r\n\r\n\r\n\r\nSaturday Mar 3
 1, 2018\r\nWhodini\r\nYo-Yo, Mistah Fab, Mario Hodge, DJ Mind Motion\r
 \nThe UC Theatre 2036 University Avenue Berkeley, CA\r\nDoors: 8:00 PM
 . Show: 9:00 PM (ends at 11:59 PM)\r\n$35\r\n>> BUY TICKETS\r\n\n\nFor
  more information visit https://trueskool.com/events/whodini-1
DTSTART;TZID=America/Los_Angeles:20180331T210000
DTEND;TZID=America/Los_Angeles:20180331T230000
CATEGORIES:"bay area", oakland, "san francisco", "san jose", berkeley
LOCATION:The UC Theatre, Berkeley
WEBSITE:https://www.ticketfly.com/purchase/event/1639367?_ga=2.2087743
 62.998431024.1521109760-1020605821.1521109759
URL:https://www.ticketfly.com/purchase/event/1639367?_ga=2.208774362.9
 98431024.1521109760-1020605821.1521109759
CONTACT:
ORGANIZER;CN="Editor's Pick":https://trueskool.com/profile/RentheVinyl
 Archaeologist
ATTACH;FMTTYPE="image/jpeg":http://storage.ning.com/topology/rest/1.0/
 file/get/2248006882?profile=original
ATTENDEE;ROLE=REQ-PARTICIPANT;PARTSTAT=ACCEPTED;RSVP=TRUE;CN="Editor's
  Pick":https://trueskool.com/profile/RentheVinylArchaeologist
END:VEVENT
END:VCALENDAR
