BEGIN:VCALENDAR
PRODID:NingEventWidget-v1
VERSION:2.0
METHOD:PUBLISH
BEGIN:VTIMEZONE
TZID:America/Los_Angeles
X-LIC-LOCATION:America/Los_Angeles
BEGIN:DAYLIGHT
TZOFFSETFROM:-0800
TZOFFSETTO:-0700
TZNAME:PDT
DTSTART:19700308T020000
RRULE:FREQ=YEARLY;BYMONTH=3;BYDAY=2SU
END:DAYLIGHT
BEGIN:STANDARD
TZOFFSETFROM:-0700
TZOFFSETTO:-0800
TZNAME:PST
DTSTART:19701101T020000
RRULE:FREQ=YEARLY;BYMONTH=11;BYDAY=1SU
END:STANDARD
END:VTIMEZONE
BEGIN:VEVENT
UID:1464587:Event:317541
DTSTAMP:20260421T033314Z
SUMMARY:Where'd You Get Those? - Featuring Bobbito & Stretch Armstrong
  (WIN TICKETS)
DESCRIPTION:\n\nFRIDAY MAR 7\nMassive Selector and Top Ten Social pres
 ent: WHERE'D YOU GET THOSE?  New York City's Sneaker Culture: 1960-198
 7 *A Celebration Of The 10th Anniversary of the Landmark Book Written 
 By Bobbito*  Featuring music from 1960-1987 played by: STRETCH ARMSTRO
 NG  BOBBITO GARCIA aka KOOL BOB LOVE  along with: Shortkut Proof  hos
 ted by: Fran Boogie \n\n@ Mighty 119 Utah St., San Francisco 9pm-3am 
 | 21+ w/ ID\nFREE BEFORE 10PM WITH RSVP:\nkoolboblove.eventbrite.com\n
 **OPEN BAR 9-10PM**\n\nFor more information visit https://trueskool.co
 m/events/where-d-you-get-those-featuring-bobbito-stretch-armstrong-win
 -tic
DTSTART;TZID=America/Los_Angeles:20140307T210000
DTEND;TZID=America/Los_Angeles:20140308T030000
CATEGORIES:san, francisco, california
LOCATION:San Francisco, CA
WEBSITE:http://www.eventbrite.com/e/whered-you-get-those-featuring-bob
 bito-stretch-armstrong-fri-37-tickets-10533729669
URL:http://www.eventbrite.com/e/whered-you-get-those-featuring-bobbito
 -stretch-armstrong-fri-37-tickets-10533729669
CONTACT:
ORGANIZER:Mighty
ATTACH;FMTTYPE="image/jpeg":http://storage.ning.com/topology/rest/1.0/
 file/get/2247956143?profile=original
ATTENDEE;ROLE=REQ-PARTICIPANT;PARTSTAT=ACCEPTED;RSVP=TRUE;CN="Frank Vi
 loria":https://trueskool.com/profile/DJILLusive
ATTENDEE;ROLE=REQ-PARTICIPANT;PARTSTAT=ACCEPTED;RSVP=TRUE;CN="Staff Pi
 ck":https://trueskool.com/profile/Ren
END:VEVENT
END:VCALENDAR
