BEGIN:VCALENDAR
PRODID:NingEventWidget-v1
VERSION:2.0
METHOD:PUBLISH
BEGIN:VTIMEZONE
TZID:America/Los_Angeles
X-LIC-LOCATION:America/Los_Angeles
BEGIN:DAYLIGHT
TZOFFSETFROM:-0800
TZOFFSETTO:-0700
TZNAME:PDT
DTSTART:19700308T020000
RRULE:FREQ=YEARLY;BYMONTH=3;BYDAY=2SU
END:DAYLIGHT
BEGIN:STANDARD
TZOFFSETFROM:-0700
TZOFFSETTO:-0800
TZNAME:PST
DTSTART:19701101T020000
RRULE:FREQ=YEARLY;BYMONTH=11;BYDAY=1SU
END:STANDARD
END:VTIMEZONE
BEGIN:VEVENT
UID:1464587:Event:28740
DTSTAMP:20260421T011003Z
SUMMARY:When God Gives You Ugly Tour: Atmosphere, P.O.S., Attracted To
  Gods
DESCRIPTION:When God Gives You Ugly Tour: Atmosphere, P.O.S., Attracte
 d To Gods\n\nThe Warfield\n982 Market Street, San Francisco, CA 94102\
 nMon, 04/20/09\n08:00 PM\n\nFor more information visit https://truesko
 ol.com/events/when-god-gives-you-ugly-tour
DTSTART;TZID=America/Los_Angeles:20090420T200000
DTEND;TZID=America/Los_Angeles:20090421T000000
CATEGORIES:hip, hop
LOCATION:The Warfield, San Francisco
WEBSITE:http://www.ticketmaster.com/event/1C004259A71135F4?artistid=71
 7322&majorcatid=10001&minorcatid=3
URL:http://www.ticketmaster.com/event/1C004259A71135F4?artistid=717322
 &majorcatid=10001&minorcatid=3
CONTACT:
ORGANIZER:Live Nation
ATTACH;FMTTYPE="image/jpeg":http://storage.ning.com/topology/rest/1.0/
 file/get/2247854882?profile=original
ATTENDEE;ROLE=REQ-PARTICIPANT;PARTSTAT=ACCEPTED;RSVP=TRUE;CN="Ren the 
 Vinyl Archaeologist":https://trueskool.com/profile/xh51jvilojur
END:VEVENT
END:VCALENDAR
