BEGIN:VCALENDAR
PRODID:NingEventWidget-v1
VERSION:2.0
METHOD:PUBLISH
BEGIN:VTIMEZONE
TZID:America/Los_Angeles
X-LIC-LOCATION:America/Los_Angeles
BEGIN:DAYLIGHT
TZOFFSETFROM:-0800
TZOFFSETTO:-0700
TZNAME:PDT
DTSTART:19700308T020000
RRULE:FREQ=YEARLY;BYMONTH=3;BYDAY=2SU
END:DAYLIGHT
BEGIN:STANDARD
TZOFFSETFROM:-0700
TZOFFSETTO:-0800
TZNAME:PST
DTSTART:19701101T020000
RRULE:FREQ=YEARLY;BYMONTH=11;BYDAY=1SU
END:STANDARD
END:VTIMEZONE
BEGIN:VEVENT
UID:1464587:Event:33509
DTSTAMP:20260421T110854Z
SUMMARY:West X Midwest Radio- The Best in indie Hip Hop Radio EVERY TH
 URSDAY from 6-8pacific,8-10 central
DESCRIPTION:Come Join Influence & Ro Knew\n\nThursday Evenings 6-8Paci
 fic, 8-10 central\n\nThe best in Underground hip hop/News/Discussion C
 yphers and guests as we heat up the airwaves on 104.1FM..\n\nSTREAMING
  CRYSTAL CLEAR\nhttp://radio.indybay.org:8000/blr.mp3.m3u\nhttp://www.
 berkeleyliberationradio.org/\n\nWe will play all types of UNCENSORED h
 ip hop ..yes that is right UNCENSORED meaning no clean versions.. only
  that REAL RAW shit.. from Chicago to the BAY every Thursday..\n\nSo p
 lease come join us and request something or if your around West Oaklan
 d Bart station drop us a line and join us live in the studio!\n\nFor m
 ore information visit https://trueskool.com/events/west-x-midwest-radi
 o-the-best
DTSTART;TZID=America/Los_Angeles:20090604T180000
DTEND;TZID=America/Los_Angeles:20090604T200000
CATEGORIES:radio, show
LOCATION:104.1fm on your radio dial or ://radio.indybay.org:8000/blr.m
 p3.m3u http://www.berkeleyliberationradio.org/
WEBSITE:http://://radio.indybay.org:8000/blr.mp3.m3u
URL:http://://radio.indybay.org:8000/blr.mp3.m3u
CONTACT:
ORGANIZER;CN="West X Midwest":https://trueskool.com/profile/WestXMidwe
 st
ATTACH;FMTTYPE="image/jpeg":http://storage.ning.com/topology/rest/1.0/
 file/get/2247858376?profile=original
ATTENDEE;ROLE=REQ-PARTICIPANT;PARTSTAT=ACCEPTED;RSVP=TRUE;CN="West X M
 idwest":https://trueskool.com/profile/WestXMidwest
END:VEVENT
END:VCALENDAR
