BEGIN:VCALENDAR
PRODID:NingEventWidget-v1
VERSION:2.0
METHOD:PUBLISH
BEGIN:VTIMEZONE
TZID:America/Los_Angeles
X-LIC-LOCATION:America/Los_Angeles
BEGIN:DAYLIGHT
TZOFFSETFROM:-0800
TZOFFSETTO:-0700
TZNAME:PDT
DTSTART:19700308T020000
RRULE:FREQ=YEARLY;BYMONTH=3;BYDAY=2SU
END:DAYLIGHT
BEGIN:STANDARD
TZOFFSETFROM:-0700
TZOFFSETTO:-0800
TZNAME:PST
DTSTART:19701101T020000
RRULE:FREQ=YEARLY;BYMONTH=11;BYDAY=1SU
END:STANDARD
END:VTIMEZONE
BEGIN:VEVENT
UID:1464587:Event:520080
DTSTAMP:20260421T192759Z
SUMMARY:West Coast Wednesday!
DESCRIPTION:WestttttttCooooooaaaasssst! This Wednesday we will be drop
 ping nothing but LA Classics and Bay Area bangers (and that one song f
 rom Seattle I guess haha sorry NW!)   This will be a new night every 
 last Wednesday of the month to show your West Coast pride, so throw yo
 ur Dubs up!   WestCoast representatives Dj LazyBoy and Mr. Murdock wi
 ll be sipping 40's and going three wheel motion all night!  Hosted by 
 Roman Nunez   10-2AM Double Dutch Dress code (Dickies, Cortezs, beepe
 rs) Free if you throw up a dub at some point in the night\n\nFor more 
 information visit https://trueskool.com/events/west-coast-wednesday
DTSTART;TZID=America/Los_Angeles:20150128T220000
DTEND;TZID=America/Los_Angeles:20150129T020000
CATEGORIES:double, dutch
LOCATION:double dutch, SF
WEBSITE:
URL:
CONTACT:
ORGANIZER;CN="Dj Mr. Murdock":https://trueskool.com/profile/DjMrMurdoc
 k
ATTACH;FMTTYPE="image/jpeg":http://storage.ning.com/topology/rest/1.0/
 file/get/2247974132?profile=original
ATTENDEE;ROLE=REQ-PARTICIPANT;PARTSTAT=ACCEPTED;RSVP=TRUE;CN="Dj Mr. M
 urdock":https://trueskool.com/profile/DjMrMurdock
END:VEVENT
END:VCALENDAR
