BEGIN:VCALENDAR
PRODID:NingEventWidget-v1
VERSION:2.0
METHOD:PUBLISH
BEGIN:VTIMEZONE
TZID:America/Los_Angeles
X-LIC-LOCATION:America/Los_Angeles
BEGIN:DAYLIGHT
TZOFFSETFROM:-0800
TZOFFSETTO:-0700
TZNAME:PDT
DTSTART:19700308T020000
RRULE:FREQ=YEARLY;BYMONTH=3;BYDAY=2SU
END:DAYLIGHT
BEGIN:STANDARD
TZOFFSETFROM:-0700
TZOFFSETTO:-0800
TZNAME:PST
DTSTART:19701101T020000
RRULE:FREQ=YEARLY;BYMONTH=11;BYDAY=1SU
END:STANDARD
END:VTIMEZONE
BEGIN:VEVENT
UID:1464587:Event:76767
DTSTAMP:20260423T013250Z
SUMMARY:Wes Fes Vol. 1 feat. Casual of Hiero, Lyrics Born & Andre Nick
 atina (CANCELLED)
DESCRIPTION:CLICK HERE TO WIN A PAIR OF TICKETS:\nhttp://www.trueskool
 .com/group/wintickets\n\n\nThursday, February 24th\nSupaBad Ent presen
 ts\nWES FES Vol. 1...\nIt's a Hip Hop Show for everyone...Representing
  all styles of West Coast Hip Hop.. Casual of Hiero...\nLyrics Born..
 .\nand Andre Nickatina All taking the stage under one roof...Thursday
 , February 24th @ Mezzanine in SF. ......Doors open at 9pmTickets ava
 ilable at Eventbrite.comhttp://wesfes.eventbrite.com/*General Admissio
 n Tickets - $25*Online Ticket Special - Limited Discounted Tickets - 2
  for $40This is a 21+ event.\n\nFor more information visit https://tru
 eskool.com/events/wes-fes-vol-1-feat-casual-of
DTSTART;TZID=America/Los_Angeles:20110224T210000
DTEND;TZID=America/Los_Angeles:20110225T020000
CATEGORIES:san, francisco, ca, bay
LOCATION:Mezzanine, San Francisco
WEBSITE:http://wesfes.eventbrite.com
URL:http://wesfes.eventbrite.com
CONTACT:
ORGANIZER:Supabad Ent
ATTACH;FMTTYPE="image/jpeg":http://storage.ning.com/topology/rest/1.0/
 file/get/2247889308?profile=original
ATTENDEE;ROLE=REQ-PARTICIPANT;PARTSTAT=ACCEPTED;RSVP=TRUE;CN="Ren the 
 Vinyl Archaeologist":https://trueskool.com/profile/xh51jvilojur
END:VEVENT
END:VCALENDAR
