BEGIN:VCALENDAR
PRODID:NingEventWidget-v1
VERSION:2.0
METHOD:PUBLISH
BEGIN:VTIMEZONE
TZID:America/Los_Angeles
X-LIC-LOCATION:America/Los_Angeles
BEGIN:DAYLIGHT
TZOFFSETFROM:-0800
TZOFFSETTO:-0700
TZNAME:PDT
DTSTART:19700308T020000
RRULE:FREQ=YEARLY;BYMONTH=3;BYDAY=2SU
END:DAYLIGHT
BEGIN:STANDARD
TZOFFSETFROM:-0700
TZOFFSETTO:-0800
TZNAME:PST
DTSTART:19701101T020000
RRULE:FREQ=YEARLY;BYMONTH=11;BYDAY=1SU
END:STANDARD
END:VTIMEZONE
BEGIN:VEVENT
UID:1464587:Event:309478
DTSTAMP:20260420T181720Z
SUMMARY:Wed 2/5 in Santa Cruz - DLabrie, YDMC, Madman, Maq Steez, Chri
 s Majic, 2 DJ's
DESCRIPTION:at Blue Lagoon, 21 and up, 9pm, $5\n\nFor more information
  visit https://trueskool.com/events/wed-2-5-in-santa-cruz-dlabrie-ydmc
 -madman-maq-steez-chris-majic-2
DTSTART;TZID=America/Los_Angeles:20140205T210000
DTEND;TZID=America/Los_Angeles:20140206T020000
CATEGORIES:santa, cruz, central, california, bay, area, coast, watsonv
 ille, capitola, abtos, san, jose, monterey
LOCATION:Blue Lagoon
WEBSITE:
URL:
CONTACT:
ORGANIZER:Majic Productions/ RonDavoux Records
ATTACH;FMTTYPE="image/jpeg":http://storage.ning.com/topology/rest/1.0/
 file/get/2247956370?profile=original
ATTENDEE;ROLE=REQ-PARTICIPANT;PARTSTAT=ACCEPTED;RSVP=TRUE;CN=DLabrie:h
 ttps://trueskool.com/profile/DLabrie
END:VEVENT
END:VCALENDAR
