BEGIN:VCALENDAR
PRODID:NingEventWidget-v1
VERSION:2.0
METHOD:PUBLISH
BEGIN:VTIMEZONE
TZID:America/Los_Angeles
X-LIC-LOCATION:America/Los_Angeles
BEGIN:DAYLIGHT
TZOFFSETFROM:-0800
TZOFFSETTO:-0700
TZNAME:PDT
DTSTART:19700308T020000
RRULE:FREQ=YEARLY;BYMONTH=3;BYDAY=2SU
END:DAYLIGHT
BEGIN:STANDARD
TZOFFSETFROM:-0700
TZOFFSETTO:-0800
TZNAME:PST
DTSTART:19701101T020000
RRULE:FREQ=YEARLY;BYMONTH=11;BYDAY=1SU
END:STANDARD
END:VTIMEZONE
BEGIN:VEVENT
UID:1464587:Event:307010
DTSTAMP:20260420T164047Z
SUMMARY:We Rep The Bay Live feat. Corey Action, Qui510, Misa Malone, &
  Quincy Mosby
DESCRIPTION:We Rep The Bay Live Music Series is a collective of both n
 ew and established Performing Artists who were/are either born, bred o
 r transplanted into the San Francisco Bay Area and have \"repped the B
 ay\" all over the World.\nIn Volume 1 of the WRTB Music Series, we'll 
 feature Qui510, Corey Action, Misa Malone, Quincy Mosby and the incred
 ible REVIVAL BAND, Taking you on a musical journey through Soul/Funk/J
 azz/Hip-Hop/Afro-Punk/Urban Pop and House genre's. This will be an eve
 ning of fun, great music and incredible talent. For more info. www.We
 RepTheBay.com\n\nFor more information visit https://trueskool.com/even
 ts/we-rep-the-bay-live-feat-corey-action-qui510-misa-malone-quincy
DTSTART;TZID=America/Los_Angeles:20140205T193000
DTEND;TZID=America/Los_Angeles:20140205T213000
CATEGORIES:oakland, down, town, jack, london, square, "yoshi's"
LOCATION:Yoshi's, Oakland, Ca.
WEBSITE:http://www.yoshis.com/oakland/jazzclub/artist/show/4126
URL:http://www.yoshis.com/oakland/jazzclub/artist/show/4126
CONTACT:(510)575-9988 or (818)732-0042
ORGANIZER:A-Lis Musiq Circle, I Told U Entertainment,We Rep The Bay In
 ternational, Qui510,
ATTACH;FMTTYPE="image/jpeg":http://storage.ning.com/topology/rest/1.0/
 file/get/2247956931?profile=original
ATTENDEE;ROLE=REQ-PARTICIPANT;PARTSTAT=ACCEPTED;RSVP=TRUE;CN=Qui510:ht
 tps://trueskool.com/profile/QuimaniKBrown
END:VEVENT
END:VCALENDAR
