BEGIN:VCALENDAR
PRODID:NingEventWidget-v1
VERSION:2.0
METHOD:PUBLISH
BEGIN:VTIMEZONE
TZID:America/Los_Angeles
X-LIC-LOCATION:America/Los_Angeles
BEGIN:DAYLIGHT
TZOFFSETFROM:-0800
TZOFFSETTO:-0700
TZNAME:PDT
DTSTART:19700308T020000
RRULE:FREQ=YEARLY;BYMONTH=3;BYDAY=2SU
END:DAYLIGHT
BEGIN:STANDARD
TZOFFSETFROM:-0700
TZOFFSETTO:-0800
TZNAME:PST
DTSTART:19701101T020000
RRULE:FREQ=YEARLY;BYMONTH=11;BYDAY=1SU
END:STANDARD
END:VTIMEZONE
BEGIN:VEVENT
UID:1464587:Event:377630
DTSTAMP:20260421T120242Z
SUMMARY:We Out Here Wednesdays!
DESCRIPTION:We Out Here! Tonight at Double Dutch Dj Mr. Murdock will b
 e dropping Hip Hop, Reggae and Remix heaters all night. No cover, no 
 dress code, no buuuushit! Just good times! 10PMDouble Dutch\n\nFor mo
 re information visit https://trueskool.com/events/we-out-here-wednesda
 ys-3
DTSTART;TZID=America/Los_Angeles:20140625T220000
DTEND;TZID=America/Los_Angeles:20140626T020000
CATEGORIES:san, francisco
LOCATION:double dutch, SF
WEBSITE:
URL:
CONTACT:
ORGANIZER;CN="Dj Mr. Murdock":https://trueskool.com/profile/DjMrMurdoc
 k
ATTACH;FMTTYPE="image/jpeg":http://storage.ning.com/topology/rest/1.0/
 file/get/2247959998?profile=original
ATTENDEE;ROLE=REQ-PARTICIPANT;PARTSTAT=ACCEPTED;RSVP=TRUE;CN="Dj Mr. M
 urdock":https://trueskool.com/profile/DjMrMurdock
END:VEVENT
END:VCALENDAR
