BEGIN:VCALENDAR
PRODID:NingEventWidget-v1
VERSION:2.0
METHOD:PUBLISH
BEGIN:VTIMEZONE
TZID:America/Los_Angeles
X-LIC-LOCATION:America/Los_Angeles
BEGIN:DAYLIGHT
TZOFFSETFROM:-0800
TZOFFSETTO:-0700
TZNAME:PDT
DTSTART:19700308T020000
RRULE:FREQ=YEARLY;BYMONTH=3;BYDAY=2SU
END:DAYLIGHT
BEGIN:STANDARD
TZOFFSETFROM:-0700
TZOFFSETTO:-0800
TZNAME:PST
DTSTART:19701101T020000
RRULE:FREQ=YEARLY;BYMONTH=11;BYDAY=1SU
END:STANDARD
END:VTIMEZONE
BEGIN:VEVENT
UID:1464587:Event:41538
DTSTAMP:20260421T065902Z
SUMMARY:We Love the Town @Luka's Oakland 5th Fridays
DESCRIPTION:Golden Soundscapes presents\nWE LOVE THE TOWN\nFriday Oct.
  30th @ Luka's Oakland\n\nTown Residents\nDJ ZITA (B.A.S.S.)\nDMADNESS
  (Knowmadic DJs)\n\nPlus Special Guest\nDJ PHATRICK (Devil's Pie)\n\nC
 elebrating the launch of MADE Jewelry's LoveHate Collection and CD Rel
 ease of DJ Zita's MADE Mix Vol. 3\nSwag Bag Giveaways to 50 Lucky Ladi
 es!\n\nLuka's Tap Room\n2221 Broadway @ Grand, Oakland\n9pm-2am, $10\n
 \nhttp://lukasoakland.com\nhttp://djzita.com\nhttp://deejaydmadness.bl
 ogspot.com\nhttp://madejewelry.com\n\n\n\nFor more information visit h
 ttps://trueskool.com/events/we-love-the-town-lukas-oakland
DTSTART;TZID=America/Los_Angeles:20091030T210000
DTEND;TZID=America/Los_Angeles:20091031T020000
CATEGORIES:hip, hop, dancehall, reggae, "r&b", old, school, funk
LOCATION:Luka's Taproom Oakland
WEBSITE:http://lukasoakland.com
URL:http://lukasoakland.com
CONTACT:
ORGANIZER;CN="Fiyah Lilly":https://trueskool.com/profile/FiyahLilly
ATTACH;FMTTYPE="image/jpeg":http://storage.ning.com/topology/rest/1.0/
 file/get/2247866513?profile=original
ATTENDEE;ROLE=REQ-PARTICIPANT;PARTSTAT=ACCEPTED;RSVP=TRUE;CN="Fiyah Li
 lly":https://trueskool.com/profile/FiyahLilly
END:VEVENT
END:VCALENDAR
