BEGIN:VCALENDAR
PRODID:NingEventWidget-v1
VERSION:2.0
METHOD:PUBLISH
BEGIN:VTIMEZONE
TZID:America/Los_Angeles
X-LIC-LOCATION:America/Los_Angeles
BEGIN:DAYLIGHT
TZOFFSETFROM:-0800
TZOFFSETTO:-0700
TZNAME:PDT
DTSTART:19700308T020000
RRULE:FREQ=YEARLY;BYMONTH=3;BYDAY=2SU
END:DAYLIGHT
BEGIN:STANDARD
TZOFFSETFROM:-0700
TZOFFSETTO:-0800
TZNAME:PST
DTSTART:19701101T020000
RRULE:FREQ=YEARLY;BYMONTH=11;BYDAY=1SU
END:STANDARD
END:VTIMEZONE
BEGIN:VEVENT
UID:1464587:Event:70832
DTSTAMP:20260420T145147Z
SUMMARY:We All We Got
DESCRIPTION:Inhouse Talent Presents\nWe All We Got\nIndependent Hip Ho
 p Artist Showcase\nHosted by Sellassie\n\nClub Six\n\n60 Sixth St, San
  Francisco\nWednesday November 24, 2010\n9:00pm/$10/+\n\n\n\nSellassie
 : www.sellassiefrisco.com\n\nSelf (thuggah)\n\nBayboy: www.facebook.co
 m/?ref=home#!/DJthebayboy\n\nC-Money: www.Reverbnation.com/cmoneyhdh\n
 \nTraedo\n\nChristian Knight: www.christianknight.net\n\nDJ Coast: www
 .myspace.com/djcoastsound, www.facebook.com/coast2coastsound\nâ€”â€”â€
 ”â€”â€”â€”â€”â€”â€”â€”â€”â€“â€”â€”â€”â€”â€”â€”â€”â€”â€”â€”â€”â€”-\n\nW
 E ALL WE GOT returns to Club Six on November 24 with the latest instal
 lment, committed to showcasing the best in upcoming Hip Hop, Rnb and S
 oul. Presented by Inhouse Talent and hosted by Revolutionary Poet Sell
 assie, WE ALL WE GOT is an independent artist showcase designed to exp
 ose interesting and determined emerging artists, cultivate relationshi
 ps, and build community. The series is creating a movement where upcom
 ing artists can gain exposure and experience and perform alongside leg
 endary artists. WE ALL WE GOT is a place to discover some new music yo
 u just might like and mightnâ€™t hear elsewhere.\n\n\n\nWE ALL WE GOT 
 host Sellassie is shining as a leading progressive voice in S.F. Bay H
 ip Hop. With an acclaimed debut release, Iâ€™m Tryinâ€™ to Make a Livi
 nâ€™ Not a Killinâ€™, and a new follow-up album, Sins of Your Forefath
 ers, he is carving his niche in Hip Hop. Although inspired and motivat
 ed from reading hundreds of books, Sellassie is self-taught and came u
 p on the streets. Sellassieâ€™s lyric is rooted in a deep comprehensio
 n of the world around him. He writes on domestic and world politics, i
 nternational relations and community needs, corporate thuggery and the
  obstacles independent artists face. He has seen first hand the proble
 ms that his music addresses. He has seen black on black crime, he has 
 lost many close friends to homicide, he has seen the drugs and money d
 estroy his community, he has witnessed the decay of Independent Bay Hi
 p Hop. In addition to the new record, Sellassie is building this revol
 utionary show series WE ALL WE GOT, is working with many social, polit
 ical and youth based initiatives, and is a contributor to various spec
 ial projects including Emcees for Peaceâ€™s The Matter That Matters CD
  and the film, â€œIt Doesnâ€™t Cost Nothinâ€™ to Dream.â€œ\n\n\n\nProu
 dly Sponsored by Reverb Nation, Fusicology, Reno Metromix and the Hip 
 Hop Congress.\n\n\n\nPress Contact:\nGina Gallo\ngina@inhousetalent.co
 m\nOfficial Site: http://www.clubsix1.com\n\nFor more information visi
 t https://trueskool.com/events/we-all-we-got
DTSTART;TZID=America/Los_Angeles:20101124T210000
DTEND;TZID=America/Los_Angeles:20101125T020000
CATEGORIES:san, francisco, "ca."
LOCATION:Club Six
WEBSITE:http://www.clubsix1.com
URL:http://www.clubsix1.com
CONTACT:415-863-1221
ORGANIZER;CN=Cecily:https://trueskool.com/profile/Cecily
ATTACH;FMTTYPE="image/jpeg":http://storage.ning.com/topology/rest/1.0/
 file/get/2247887055?profile=original
ATTENDEE;ROLE=REQ-PARTICIPANT;PARTSTAT=ACCEPTED;RSVP=TRUE;CN=Cecily:ht
 tps://trueskool.com/profile/Cecily
END:VEVENT
END:VCALENDAR
