BEGIN:VCALENDAR
PRODID:NingEventWidget-v1
VERSION:2.0
METHOD:PUBLISH
BEGIN:VTIMEZONE
TZID:America/Los_Angeles
X-LIC-LOCATION:America/Los_Angeles
BEGIN:DAYLIGHT
TZOFFSETFROM:-0800
TZOFFSETTO:-0700
TZNAME:PDT
DTSTART:19700308T020000
RRULE:FREQ=YEARLY;BYMONTH=3;BYDAY=2SU
END:DAYLIGHT
BEGIN:STANDARD
TZOFFSETFROM:-0700
TZOFFSETTO:-0800
TZNAME:PST
DTSTART:19701101T020000
RRULE:FREQ=YEARLY;BYMONTH=11;BYDAY=1SU
END:STANDARD
END:VTIMEZONE
BEGIN:VEVENT
UID:1464587:Event:74168
DTSTAMP:20260420T194452Z
SUMMARY:WE ALL WE GOT presents THE JACKA hosted by SELLASSIE
DESCRIPTION:Inhouse Talent and We All We Got PresentsThe JackaHosted b
 y Sellassie\n9:00pm/$10/21+\nTickets:Â  http://www.brownpapertickets.c
 om/event/143597\nÂ \nÂ \nWEALL WE GOT kicks off the 2011 series with b
 ay area favorite, The Jacka headlining a special show with two rooms s
 howcasing both live acts and emerging DJs.Â  Presented by Inhouse Tale
 nt and hosted by Revolutionary Poet Sellassie, WE ALL WE GOT is an ind
 ependent artist showcase designed to expose interesting and determined
  emerging artists, cultivate relationships, and build community. The s
 eries is creating a movement where upcoming artists can gain exposure 
 and experience and perform alongside legendary artists. WE ALL WE GOT 
 is a place to discover some new music you just might like and mightnâ€
 ™t hear elsewhere.\n\nÂ \n\nFor more information visit https://truesko
 ol.com/events/we-all-we-got-presents-the
DTSTART;TZID=America/Los_Angeles:20110121T210000
DTEND;TZID=America/Los_Angeles:20110122T020000
CATEGORIES:rap, hip, hop, sf, bay, sellassie, inhouse, talent, jacka, 
 mob, figaz, showcase
LOCATION:CLUB SIX
WEBSITE:http://www.sellassiefrisco.com
URL:http://www.sellassiefrisco.com
CONTACT:
ORGANIZER;CN="Inhouse Talent":https://trueskool.com/profile/InhouseTal
 ent
ATTACH;FMTTYPE="image/jpeg":http://storage.ning.com/topology/rest/1.0/
 file/get/2247894194?profile=original
ATTENDEE;ROLE=REQ-PARTICIPANT;PARTSTAT=ACCEPTED;RSVP=TRUE;CN="Inhouse 
 Talent":https://trueskool.com/profile/InhouseTalent
END:VEVENT
END:VCALENDAR
